BEGIN:VCALENDAR
VERSION:2.0
PRODID:-//MAP vzdělávání na Kolínsku - ECPv6.14.2//NONSGML v1.0//EN
CALSCALE:GREGORIAN
METHOD:PUBLISH
X-WR-CALNAME:MAP vzdělávání na Kolínsku
X-ORIGINAL-URL:https://www.map-kolin.cz
X-WR-CALDESC:Akce na MAP vzdělávání na Kolínsku
REFRESH-INTERVAL;VALUE=DURATION:PT1H
X-Robots-Tag:noindex
X-PUBLISHED-TTL:PT1H
BEGIN:VTIMEZONE
TZID:Europe/Prague
BEGIN:DAYLIGHT
TZOFFSETFROM:+0100
TZOFFSETTO:+0200
TZNAME:CEST
DTSTART:20230326T010000
END:DAYLIGHT
BEGIN:STANDARD
TZOFFSETFROM:+0200
TZOFFSETTO:+0100
TZNAME:CET
DTSTART:20231029T010000
END:STANDARD
BEGIN:DAYLIGHT
TZOFFSETFROM:+0100
TZOFFSETTO:+0200
TZNAME:CEST
DTSTART:20240331T010000
END:DAYLIGHT
BEGIN:STANDARD
TZOFFSETFROM:+0200
TZOFFSETTO:+0100
TZNAME:CET
DTSTART:20241027T010000
END:STANDARD
END:VTIMEZONE
BEGIN:VEVENT
DTSTART;TZID=Europe/Prague:20240820T083000
DTEND;TZID=Europe/Prague:20240820T163000
DTSTAMP:20260422T061921
CREATED:20240427T172220Z
LAST-MODIFIED:20240819T100351Z
UID:2459-1724142600-1724171400@www.map-kolin.cz
SUMMARY:Divadelní techniky ve výuce MŠ
DESCRIPTION:Chcete používat v mateřské škole divadlo a nevíte\, jak začít? Rádi byste děti vedli k lásce ke knihám\, ale mají období\, kdy je předčítání nebaví? \nS knížkou se mohou seznámit také přes divadlo! Navíc přitom mohou více poznat samy sebe a své školkové parťáky. \nNabídneme vám konkrétní projekt Chlebová Lhota podle stejnojmenné knihy autorky Dagmar Urbanové a zmíníme se o dalších. Kousky společně zažijeme a ukážeme si na nich způsoby práce a divadelní techniky vhodné pro děti v mateřské škole. Mohou mít tyto techniky vliv na fungování kolektivu? Pojďte na vlastní kůži zažít\, jak divadlo utváří skupinu a propojení mezi jejími členy! \nLektorka\nMgA. Anna Eva Machová \nBěhem studia JAMU se věnovala začlenění předmětu Dramatická výchova do základních škol a učila. Život jí nakonec nabídl různorodější profesní zkušenosti. Od manažerské práce pro prodejní outdoorové projekty\, k 10 letům praxe ve společnosti Akord OT a s nimi školení pracovních kolektivů. V práci s dětmi pokračovala jako instruktorka na lyžích na božídarském Novaku a pro školy v přírodě a letní tábory společnosti Robinson. Hodně jí ovlivnilo\, když v Klatovech pracovala pro vícejazyčnou montessori školku. Poslední dobou připravuje hlavně projekty na míru pro malé dětské skupiny\, třídní kolektivy\, stezky a hry na oslavy. Nejvíce času však tráví s dvouletým synem Maxmiliánem\, který jí ukazuje nadšení z každého dne a radost při objevování světa kolem nás.
URL:https://www.map-kolin.cz/akce/divadelni-techniky-ve-vyuce-ms/
LOCATION:CEROP Kolín\, Sokolská 1095\, Kolín\, Středočeský\, 28002\, Česká republika
CATEGORIES:HRAVÁ LETNÍ ŠKOLA
ORGANIZER;CN="Mgr. Michaela Z%C3%A1horov%C3%A1":MAILTO:michala.zahorova@gmail.com
END:VEVENT
BEGIN:VEVENT
DTSTART;TZID=Europe/Prague:20240819T090000
DTEND;TZID=Europe/Prague:20240819T163000
DTSTAMP:20260422T061921
CREATED:20240427T171301Z
LAST-MODIFIED:20240816T110207Z
UID:2456-1724058000-1724085000@www.map-kolin.cz
SUMMARY:Kreativní nástroje umělé inteligence
DESCRIPTION:Seminář\, na kterém si budeme „hrát“ s nástroji umělé inteligence. Zaměříme se na hudební nástroje\, kde si zkusíme vygenerovat různé melodie a písně. Dále vyzkoušíme grafické nástroje pro generování obrázků či komiksů. Také si zkusíme vygenerovat zajímavé příběhy a mnoho dalšího. \nStručný obsah semináře: \n\n\nTeoretický úvod: \n\n\nCo je to AI\, historie a možnosti AI\nEtika a nebezpečí\nUkázka nástrojů AI\n\n\n\n\n\nPraktická část: \n\n\n\nHudební kreativní aplikace\nGrafické kreativní aplikace\nTvorba kreativního projektu\n\n\n\nMůže být výhodou si přinést vlastní notebook nebo tablet k práci. \nLektor:\nRNDr. Petr Coufal\, Ph.D. se věnuje výuce informatiky a fyziky na střední škole v Litomyšli. Současně vede kurzy na Univerzitě v Hradci Králové\, kde se specializuje na didaktiku informatiky a robotiku. Jeho nadšení pro moderní technologie\, robotiku a umělou inteligenci se projevuje nejen ve výuce\, ale také v jeho roli vedoucího Digicentra Elixíru do škol\, kde sdílí své zkušenosti s učiteli i studenty.
URL:https://www.map-kolin.cz/akce/kreativni-nastroje-umele-inteligence/
LOCATION:CEROP Kolín\, Sokolská 1095\, Kolín\, Středočeský\, 28002\, Česká republika
CATEGORIES:HRAVÁ LETNÍ ŠKOLA
ORGANIZER;CN="Mgr. Iva Hervertov%C3%A1":MAILTO:map.kolin@podlipansko.cz
END:VEVENT
BEGIN:VEVENT
DTSTART;TZID=Europe/Prague:20240819T083000
DTEND;TZID=Europe/Prague:20240819T163000
DTSTAMP:20260422T061921
CREATED:20240427T165605Z
LAST-MODIFIED:20240816T110120Z
UID:2449-1724056200-1724085000@www.map-kolin.cz
SUMMARY:Tygří svět - komunikace ve třídě
DESCRIPTION:Tento seminář představí jednoduchou komunikační metodu\, která se zaměřuje na sebepoznání a přebírání odpovědnosti za své chování. Podporuje spolupráci a vzájemný respekt. Usnadňuje práci s dětmi a řeší problémy se začleněním do kolektivu\, prevencí šikany a dalšími patologickými jevy. Představuje čtyři komunikační typy\, jejichž znalost vede k přijetí jedince. Pro její aplikaci není třeba měnit systém výuky. Mění se to zásadní\, vzájemná komunikace žáka a pedagoga\, a tak jsou její dopady patrné v každodenním životě. \nLektoři\nVáclav Flíček se zajímá o propojování lidí. Uvědomil si\, v čem spočívá význam slova spolupráce a těší se z pokroků\, které se díky tomu dějí. Obdivuje úsilí pedagogů\, jejich vytrvalost a hlavně ochotu vidět na dětech to dobré. Takové pedagogy se snaží vzájemně propojovat a inspirovat. \nZdeněk Sklenář se díky svým zkušenostem a studiu věnuje dětem převážně jako taneční lektor v dětském folklorním souboru. Vystupování na veřejnosti je pro něj přirozené stejně jako práce s dětmi. Utvrzuje se v přesvědčení\, že budoucnost našich dětí je závislá na otevřené spolupráci s nimi\, dostatečném prostoru a respektu.
URL:https://www.map-kolin.cz/akce/tygri-svet-komunikace-ve-tride/
LOCATION:CEROP Kolín\, Sokolská 1095\, Kolín\, Středočeský\, 28002\, Česká republika
CATEGORIES:HRAVÁ LETNÍ ŠKOLA
ORGANIZER;CN="Mgr. Michaela Z%C3%A1horov%C3%A1":MAILTO:michala.zahorova@gmail.com
END:VEVENT
BEGIN:VEVENT
DTSTART;TZID=Europe/Prague:20240819T083000
DTEND;TZID=Europe/Prague:20240819T163000
DTSTAMP:20260422T061921
CREATED:20240427T164132Z
LAST-MODIFIED:20240816T062337Z
UID:2441-1724056200-1724085000@www.map-kolin.cz
SUMMARY:Jak nevyhořet v roli pedagoga aneb  jak o sebe efektivně pečovat
DESCRIPTION:Prakticky zaměřený seminář na stále aktuální téma psychohygiena a její důležitost v péči o sebe sama. Dotkneme se témat syndromu vyhoření\, sebesoucitu\, sebelaskavosti\, sebereflexe. Vytvoříme si například vlastní Ikigai (důvod\, proč ráno vstát z postele)\, kolo života či seznam miluji-nesnáším aj. \nLektorky\nMgr. Martina Kastnerová – psycholožka\, psychoterapeutka\, koučka\, vedoucí\nCPSP\, 21 let v psychologické praxi\, matka tří dětí\, milovnice koček\, hudby\,\ncestování\, fotografie a dobrého jídla. \nMgr. Petra Vášová – zakladatelka neziskové organizace Kaňkovské sedlo\,\nspeciální pedagožka\, koučka\, mediátorka\, 26 let v poradenské praxi\, matka\ndvou kluků\, milovnice cestování\, cyklistiky a přírody.
URL:https://www.map-kolin.cz/akce/jak-nevyhoret-v-roli-pedagoga/
LOCATION:CEROP Kolín\, Sokolská 1095\, Kolín\, Středočeský\, 28002\, Česká republika
CATEGORIES:HRAVÁ LETNÍ ŠKOLA
ORGANIZER;CN="Mgr. David Z%C3%A1hora":MAILTO:skolstvi@maszalabi.eu
END:VEVENT
BEGIN:VEVENT
DTSTART;VALUE=DATE:20240819
DTEND;VALUE=DATE:20240823
DTSTAMP:20260422T061921
CREATED:20240320T154630Z
LAST-MODIFIED:20240427T190713Z
UID:2274-1724025600-1724371199@www.map-kolin.cz
SUMMARY:HRAVÁ LETNÍ ŠKOLA
DESCRIPTION:Více informací získáte kliknutím na vybranou akci\, zároveň se tam i na danou akci přihlásíte.\nPondělí 19. 8.\nJak nevyhořet v roli pedagoga aneb jak o sebe efektivně pečovat\nTygří svět – komunikace ve třídě\nKreativní nástroje umělé inteligence\nÚterý 20. 8.\nDivadelní techniky ve výuce MŠ\nKreativní nástroje umělé inteligence\nJak nevyhořet v roli pedagoga aneb jak o sebe efektivně pečovat\nStředa 21. 8.\nKlíčové oblasti pro rozvoj řeči a jazyka\nZačlenění herních prvků do procesu vzdělávání\nJak na třídnické hodiny a prevenci s dokumentárními filmy (JSNS.cz)\nČtvrtek 22. 8.\nHra venku\nMetody Aktivního Učení\nUčíme se lehce a hravě – improvizace a zážitková pedagogika
URL:https://www.map-kolin.cz/akce/letni-skola/
ORGANIZER;CN="Mgr. David Z%C3%A1hora":MAILTO:skolstvi@maszalabi.eu
END:VEVENT
BEGIN:VEVENT
DTSTART;TZID=Europe/Prague:20240620T150000
DTEND;TZID=Europe/Prague:20240620T180000
DTSTAMP:20260422T061921
CREATED:20240416T195423Z
LAST-MODIFIED:20240424T132035Z
UID:2382-1718895600-1718906400@www.map-kolin.cz
SUMMARY:Umělá inteligence ve vzdělávání
DESCRIPTION:
URL:https://www.map-kolin.cz/akce/umela-inteligence-ve-vzdelavani/
LOCATION:CEROP Kolín\, Sokolská 1095\, Kolín\, Středočeský\, 28002\, Česká republika
CATEGORIES:Workshopy
ORGANIZER;CN="Mgr. David Z%C3%A1hora":MAILTO:skolstvi@maszalabi.eu
END:VEVENT
BEGIN:VEVENT
DTSTART;TZID=Europe/Prague:20240613T090000
DTEND;TZID=Europe/Prague:20240613T130000
DTSTAMP:20260422T061921
CREATED:20240416T194943Z
LAST-MODIFIED:20240424T132003Z
UID:2380-1718269200-1718283600@www.map-kolin.cz
SUMMARY:Hodnocení a odměňování ředitele školy
DESCRIPTION:
URL:https://www.map-kolin.cz/akce/hodnoceni-a-odmenovani-reditele-skoly/
LOCATION:Komunitní centrum Kostelní Lhota\, Kostelní Lhota 82\, Kostelní Lhota\, 28912\, Česká republika
CATEGORIES:Semináře
ORGANIZER;CN="Mgr. Michala Hlu%C5%A1i%C4%8Dkov%C3%A1":MAILTO:skolstvi@podlipansko.cz
END:VEVENT
BEGIN:VEVENT
DTSTART;TZID=Europe/Prague:20240603T150000
DTEND;TZID=Europe/Prague:20240603T170000
DTSTAMP:20260422T061921
CREATED:20240419T100431Z
LAST-MODIFIED:20240424T131933Z
UID:2388-1717426800-1717434000@www.map-kolin.cz
SUMMARY:Muzikoterapie pro pedagogy
DESCRIPTION:
URL:https://www.map-kolin.cz/akce/muzikoterapie-pro-pedagogy/
LOCATION:CEROP Kolín\, Sokolská 1095\, Kolín\, Středočeský\, 28002\, Česká republika
CATEGORIES:Workshopy
ORGANIZER;CN="Mgr. Michaela Z%C3%A1horov%C3%A1":MAILTO:michala.zahorova@gmail.com
END:VEVENT
BEGIN:VEVENT
DTSTART;TZID=Europe/Prague:20240529T150000
DTEND;TZID=Europe/Prague:20240529T170000
DTSTAMP:20260422T061921
CREATED:20240312T170127Z
LAST-MODIFIED:20240508T190609Z
UID:2195-1716994800-1717002000@www.map-kolin.cz
SUMMARY:Setkání PS MODIFO
DESCRIPTION:
URL:https://www.map-kolin.cz/akce/setkani-ps-modifo/
LOCATION:CEROP Kolín\, Sokolská 1095\, Kolín\, Středočeský\, 28002\, Česká republika
CATEGORIES:Pracovní skupiny
ORGANIZER;CN="Mgr. Michaela Z%C3%A1horov%C3%A1":MAILTO:michala.zahorova@gmail.com
END:VEVENT
BEGIN:VEVENT
DTSTART;TZID=Europe/Prague:20240528T150000
DTEND;TZID=Europe/Prague:20240528T170000
DTSTAMP:20260422T061921
CREATED:20240328T090214Z
LAST-MODIFIED:20240508T190959Z
UID:2331-1716908400-1716915600@www.map-kolin.cz
SUMMARY:Setkání PS mateřské školy
DESCRIPTION:
URL:https://www.map-kolin.cz/akce/setkani-ps-materske-skoly/
LOCATION:CEROP Kolín\, Sokolská 1095\, Kolín\, Středočeský\, 28002\, Česká republika
CATEGORIES:Pracovní skupiny
ORGANIZER;CN="Mgr. Michala Hlu%C5%A1i%C4%8Dkov%C3%A1":MAILTO:skolstvi@podlipansko.cz
END:VEVENT
BEGIN:VEVENT
DTSTART;TZID=Europe/Prague:20240528T150000
DTEND;TZID=Europe/Prague:20240528T170000
DTSTAMP:20260422T061921
CREATED:20240328T090106Z
LAST-MODIFIED:20240508T191751Z
UID:2329-1716908400-1716915600@www.map-kolin.cz
SUMMARY:Setkání PS rovné příležitosti
DESCRIPTION:
URL:https://www.map-kolin.cz/akce/setkani-ps-rovne-prilezitosti/
LOCATION:CEROP Kolín\, Sokolská 1095\, Kolín\, Středočeský\, 28002\, Česká republika
CATEGORIES:Pracovní skupiny
ORGANIZER;CN="Mgr. Michaela Z%C3%A1horov%C3%A1":MAILTO:michala.zahorova@gmail.com
END:VEVENT
BEGIN:VEVENT
DTSTART;TZID=Europe/Prague:20240509T150000
DTEND;TZID=Europe/Prague:20240509T170000
DTSTAMP:20260422T061921
CREATED:20240326T202101Z
LAST-MODIFIED:20240424T125810Z
UID:2327-1715266800-1715274000@www.map-kolin.cz
SUMMARY:Asistent pedagoga - jak mu pomoci v jeho nelehké práci
DESCRIPTION:
URL:https://www.map-kolin.cz/akce/asistent-pedagoga/
LOCATION:KOlínský DEskoherní Klub – KODEK\, Havelcova 123\, Kolín III\, 28002
CATEGORIES:Workshopy
ORGANIZER;CN="Mgr. Iva Hervertov%C3%A1":MAILTO:map.kolin@podlipansko.cz
END:VEVENT
BEGIN:VEVENT
DTSTART;TZID=Europe/Prague:20240506T150000
DTEND;TZID=Europe/Prague:20240506T170000
DTSTAMP:20260422T061921
CREATED:20240408T113601Z
LAST-MODIFIED:20240429T131910Z
UID:2354-1715007600-1715014800@www.map-kolin.cz
SUMMARY:Improvizace  – učíme se lehce a hravě
DESCRIPTION:
URL:https://www.map-kolin.cz/akce/improvizace/
LOCATION:KOlínský DEskoherní Klub – KODEK\, Havelcova 123\, Kolín III\, 28002
CATEGORIES:Workshopy
ORGANIZER;CN="Mgr. Michaela Z%C3%A1horov%C3%A1":MAILTO:michala.zahorova@gmail.com
END:VEVENT
BEGIN:VEVENT
DTSTART;TZID=Europe/Prague:20240425T150000
DTEND;TZID=Europe/Prague:20240425T173000
DTSTAMP:20260422T061921
CREATED:20240313T171345Z
LAST-MODIFIED:20240424T090657Z
UID:2212-1714057200-1714066200@www.map-kolin.cz
SUMMARY:100 míst\, která venku učí
DESCRIPTION:
URL:https://www.map-kolin.cz/akce/ucime-se-venku/
LOCATION:CEROP Kolín\, Sokolská 1095\, Kolín\, Středočeský\, 28002\, Česká republika
CATEGORIES:Semináře
ORGANIZER;CN="Mgr. Michaela Z%C3%A1horov%C3%A1":MAILTO:michala.zahorova@gmail.com
END:VEVENT
BEGIN:VEVENT
DTSTART;TZID=Europe/Prague:20240417T150000
DTEND;TZID=Europe/Prague:20240417T170000
DTSTAMP:20260422T061921
CREATED:20240308T123818Z
LAST-MODIFIED:20240416T195655Z
UID:2198-1713366000-1713373200@www.map-kolin.cz
SUMMARY:Nebezpečí internetu
DESCRIPTION:Workshop a diskuze pro veřejnost.
URL:https://www.map-kolin.cz/akce/nebezpeci-internetu/
LOCATION:KOlínský DEskoherní Klub – KODEK\, Havelcova 123\, Kolín III\, 28002
CATEGORIES:Workshopy
ORGANIZER;CN="Mgr. Michaela Z%C3%A1horov%C3%A1":MAILTO:michala.zahorova@gmail.com
END:VEVENT
BEGIN:VEVENT
DTSTART;TZID=Europe/Prague:20240411T150000
DTEND;TZID=Europe/Prague:20240411T170000
DTSTAMP:20260422T061921
CREATED:20240208T095142Z
LAST-MODIFIED:20240410T190423Z
UID:2121-1712847600-1712854800@www.map-kolin.cz
SUMMARY:Hrátky s poezií
DESCRIPTION:
URL:https://www.map-kolin.cz/akce/hratky-s-poezii/
LOCATION:Městská knihovna Kolín\, Husova 69\, Kolín I\, 28002
CATEGORIES:Workshopy
ORGANIZER;CN="Mgr. Michaela Z%C3%A1horov%C3%A1":MAILTO:michala.zahorova@gmail.com
END:VEVENT
BEGIN:VEVENT
DTSTART;TZID=Europe/Prague:20240325T150000
DTEND;TZID=Europe/Prague:20240325T170000
DTSTAMP:20260422T061921
CREATED:20240129T134419Z
LAST-MODIFIED:20240320T192315Z
UID:1981-1711378800-1711386000@www.map-kolin.cz
SUMMARY:Edukativní hra MATHESSO
DESCRIPTION:
URL:https://www.map-kolin.cz/akce/edukativni-hra-mathesso/
LOCATION:KOlínský DEskoherní Klub – KODEK\, Havelcova 123\, Kolín III\, 28002
CATEGORIES:Workshopy
ORGANIZER;CN="Mgr. Iva Hervertov%C3%A1":MAILTO:map.kolin@podlipansko.cz
END:VEVENT
BEGIN:VEVENT
DTSTART;TZID=Europe/Prague:20240320T153000
DTEND;TZID=Europe/Prague:20240320T170000
DTSTAMP:20260422T061921
CREATED:20240201T082205Z
LAST-MODIFIED:20240208T141101Z
UID:2040-1710948600-1710954000@www.map-kolin.cz
SUMMARY:Duševní hygiena  a rozvoj učitelů a učitelek MŠ
DESCRIPTION:
URL:https://www.map-kolin.cz/akce/dusevni-hygiena-a-rozvoj-ucitelu-lek-ms/
LOCATION:Základní škola a Mateřská škola Bečváry\, Bečváry 49\, Bečváry\, 281 43
CATEGORIES:Semináře
ORGANIZER;CN="Mgr. Michala Hlu%C5%A1i%C4%8Dkov%C3%A1":MAILTO:skolstvi@podlipansko.cz
END:VEVENT
BEGIN:VEVENT
DTSTART;TZID=Europe/Prague:20240319T160000
DTEND;TZID=Europe/Prague:20240319T190000
DTSTAMP:20260422T061921
CREATED:20240206T092058Z
LAST-MODIFIED:20240305T085826Z
UID:2114-1710864000-1710874800@www.map-kolin.cz
SUMMARY:Cestuji za Kačku: Kapverdy jinak
DESCRIPTION:
URL:https://www.map-kolin.cz/akce/cestuji-za-kacku/
LOCATION:CEROP Kolín\, Sokolská 1095\, Kolín\, Středočeský\, 28002\, Česká republika
CATEGORIES:Semináře
ORGANIZER;CN="Mgr. Michala Hlu%C5%A1i%C4%8Dkov%C3%A1":MAILTO:skolstvi@podlipansko.cz
END:VEVENT
BEGIN:VEVENT
DTSTART;TZID=Europe/Prague:20240314T150000
DTEND;TZID=Europe/Prague:20240314T170000
DTSTAMP:20260422T061921
CREATED:20240213T101444Z
LAST-MODIFIED:20240221T090138Z
UID:2146-1710428400-1710435600@www.map-kolin.cz
SUMMARY:Tripartita jako forma třídních schůzek
DESCRIPTION:
URL:https://www.map-kolin.cz/akce/tripartita/
LOCATION:CEROP Kolín\, Sokolská 1095\, Kolín\, Středočeský\, 28002\, Česká republika
ORGANIZER;CN="Mgr. Iva Hervertov%C3%A1":MAILTO:map.kolin@podlipansko.cz
END:VEVENT
BEGIN:VEVENT
DTSTART;TZID=Europe/Prague:20240309T090000
DTEND;TZID=Europe/Prague:20240309T170000
DTSTAMP:20260422T061921
CREATED:20240214T210519Z
LAST-MODIFIED:20240220T072620Z
UID:2152-1709974800-1710003600@www.map-kolin.cz
SUMMARY:Gamifikace - implementování deskových her do výuky
DESCRIPTION:
URL:https://www.map-kolin.cz/akce/gamifikace/
LOCATION:KOlínský DEskoherní Klub – KODEK\, Havelcova 123\, Kolín III\, 28002
CATEGORIES:Workshopy
ORGANIZER;CN="Mgr. David Z%C3%A1hora":MAILTO:skolstvi@maszalabi.eu
END:VEVENT
BEGIN:VEVENT
DTSTART;TZID=Europe/Prague:20240306T150000
DTEND;TZID=Europe/Prague:20240306T170000
DTSTAMP:20260422T061921
CREATED:20240209T155214Z
LAST-MODIFIED:20240305T183537Z
UID:2136-1709737200-1709744400@www.map-kolin.cz
SUMMARY:Setkání Pracovní skupiny MODIFO
DESCRIPTION:
URL:https://www.map-kolin.cz/akce/setkani-ps-modifo-1/
LOCATION:CEROP Kolín\, Sokolská 1095\, Kolín\, Středočeský\, 28002\, Česká republika
ORGANIZER;CN="Mgr. Michaela Z%C3%A1horov%C3%A1":MAILTO:michala.zahorova@gmail.com
END:VEVENT
BEGIN:VEVENT
DTSTART;TZID=Europe/Prague:20240306T090000
DTEND;TZID=Europe/Prague:20240306T130000
DTSTAMP:20260422T061921
CREATED:20240117T180811Z
LAST-MODIFIED:20240202T113435Z
UID:1820-1709715600-1709730000@www.map-kolin.cz
SUMMARY:Jak a k čemu směřovat  a podporovat naši školu?
DESCRIPTION:Setkání pro zřizovatele ZŠ a MŠ na téma „Jak a k čemu směřovat a podporovat naši školu? Aneb o čem by měla být škola a jak na tom spolupracovat s jejím vedením.“ Setkáním nás provede Miroslav Hřebecký.
URL:https://www.map-kolin.cz/akce/jak-a-k-cemu-smerovat-a-podporovat-nasi-skolu/
LOCATION:Komunitní centrum Kostelní Lhota\, Kostelní Lhota 82\, Kostelní Lhota\, 28912\, Česká republika
CATEGORIES:Semináře
END:VEVENT
BEGIN:VEVENT
DTSTART;TZID=Europe/Prague:20240221T150000
DTEND;TZID=Europe/Prague:20240221T170000
DTSTAMP:20260422T061921
CREATED:20240128T184810Z
LAST-MODIFIED:20240208T141316Z
UID:1952-1708527600-1708534800@www.map-kolin.cz
SUMMARY:Třída v akci - metody aktivního učení - MAU
DESCRIPTION:
URL:https://www.map-kolin.cz/akce/trida-v-akci-metody-aktivniho-uceni-mau/
LOCATION:KOlínský DEskoherní Klub – KODEK\, Havelcova 123\, Kolín III\, 28002
CATEGORIES:Workshopy
END:VEVENT
BEGIN:VEVENT
DTSTART;TZID=Europe/Prague:20240130T150000
DTEND;TZID=Europe/Prague:20240130T170000
DTSTAMP:20260422T061921
CREATED:20240111T072055Z
LAST-MODIFIED:20240118T081040Z
UID:1762-1706626800-1706634000@www.map-kolin.cz
SUMMARY:Společné setkání pracovních skupin MAP IV
DESCRIPTION:
URL:https://www.map-kolin.cz/akce/spolecne-setkani-pracovnich-skupin-map-iv/
LOCATION:CEROP Kolín\, Sokolská 1095\, Kolín\, Středočeský\, 28002\, Česká republika
END:VEVENT
BEGIN:VEVENT
DTSTART;TZID=Europe/Prague:20231005T130000
DTEND;TZID=Europe/Prague:20231005T170000
DTSTAMP:20260422T061921
CREATED:20230621T111514Z
LAST-MODIFIED:20230905T103809Z
UID:1651-1696510800-1696525200@www.map-kolin.cz
SUMMARY:Kurz první pomoci
DESCRIPTION:
URL:https://www.map-kolin.cz/akce/kurz-prvni-pomoci/
LOCATION:CEROP Kolín\, Sokolská 1095\, Kolín\, Středočeský\, 28002\, Česká republika
CATEGORIES:Semináře
END:VEVENT
BEGIN:VEVENT
DTSTART;TZID=Europe/Prague:20230824T130000
DTEND;TZID=Europe/Prague:20230824T170000
DTSTAMP:20260422T061921
CREATED:20230414T055355Z
LAST-MODIFIED:20230821T111153Z
UID:1630-1692882000-1692896400@www.map-kolin.cz
SUMMARY:Letní akademie - Aktivity nejen do informatiky
DESCRIPTION:Ukážeme si mezipředmětové aktivity s propojením na informatiku\, které rozvijí digitální klíčové kompetence a informatické myšlení. Formou zážitkové pedagogiky si vyzkoušíme konkrétní aktivity. Věřím\, že si odnesete tipy a triky do Vašich hodin. \nCílová skupina: pedagogové ZŠ \nLektorka: Mgr. Iva Hervertová
URL:https://www.map-kolin.cz/akce/letni-akademie-aktivity-nejen-do-informatiky/
LOCATION:CEROP Kolín\, Sokolská 1095\, Kolín\, Středočeský\, 28002\, Česká republika
CATEGORIES:Semináře
END:VEVENT
BEGIN:VEVENT
DTSTART;TZID=Europe/Prague:20230823T130000
DTEND;TZID=Europe/Prague:20230823T170000
DTSTAMP:20260422T061921
CREATED:20230414T055106Z
LAST-MODIFIED:20230821T111216Z
UID:1628-1692795600-1692810000@www.map-kolin.cz
SUMMARY:Letní akademie - Improvizace - učíme se  hrou
DESCRIPTION:Divadelní improvizace Vám pomůže rozvinout kreativitu\, komunikační dovednosti\, schopnost improvizovat\, lépe a snadněji spolupracovat a v neposlední řadě jak se učit hrou. Naučíte se prezentovat své myšlenky\, tak aby Vás ostatní chtěli následovat\, mít kontrolu nad situací a hledat originální řešení pro různé situace. To vše a mnohem více se Vám dostane za podpory a vedení dvou zkušených lektorů. \nCílová skupina: pedagogové ZŠ\, MŠ\, asistenti pedagoga \nLektoři: Futuredu\, s.r.o.
URL:https://www.map-kolin.cz/akce/letni-akademie-improvizace-ucime-se-hrou/
LOCATION:CEROP Kolín\, Sokolská 1095\, Kolín\, Středočeský\, 28002\, Česká republika
CATEGORIES:Semináře
END:VEVENT
BEGIN:VEVENT
DTSTART;TZID=Europe/Prague:20230823T130000
DTEND;TZID=Europe/Prague:20230823T170000
DTSTAMP:20260422T061921
CREATED:20230414T054645Z
LAST-MODIFIED:20230821T111238Z
UID:1626-1692795600-1692810000@www.map-kolin.cz
SUMMARY:Letní akademie -  Učíme se venku - 100 míst\, které venku učí
DESCRIPTION:Hlavním cílem je\, aby účastníci získali motivaci učit venku\, uměli odstranit překážky\, které jim brání v učení venku\, uměli se snadno vybavit ven\, a zároveň věděli\, co vše lze učit venku a co vše učení venku přináší dětem i učiteli. \nCílová skupina: pedagogové MŠ a ZŠ (především 1. st)\, včetně vedoucích pracovníků a vychovatelů z družin \nLektorka: Justina Danišová- Vzdělávací centrum TEREZA z. ú. – Učíme se venku \n 
URL:https://www.map-kolin.cz/akce/letni-akademie-ucime-se-venku-100-mist-ktere-venku-uci/
LOCATION:CEROP Kolín\, Sokolská 1095\, Kolín\, Středočeský\, 28002\, Česká republika
CATEGORIES:Semináře
END:VEVENT
BEGIN:VEVENT
DTSTART;TZID=Europe/Prague:20230822T130000
DTEND;TZID=Europe/Prague:20230822T170000
DTSTAMP:20260422T061921
CREATED:20230414T054155Z
LAST-MODIFIED:20230821T111310Z
UID:1624-1692709200-1692723600@www.map-kolin.cz
SUMMARY:Letní akademie - Psychohygiena ZŠ
DESCRIPTION:„Psychohygiena pro učitele“ se zaměřuje na podporu psychického zdraví a pohody učitelů\, kteří jsou vystaveni náročným podmínkám ve škole. Účastníci semináře se dozvědí\, zábavnou formou\, jak se vypořádat s přetížením\, stresem a náročnou komunikací ve škole. Budeme se učit různé techniky relaxace\, jako jsou meditace\, dechové cvičení\, čchi- kung a zaměříme se na strategie pro zlepšení komunikace s kolegy i studenty. \nCílová skupina: pedagogové ZŚ. asistenti pedagoga\, vychovatelky z družin \nLektorky: PhDr. Dana Marková\, Mgr. Hana Slobodová
URL:https://www.map-kolin.cz/akce/letni-akademie-psychohygiena-zs/
LOCATION:CEROP Kolín\, Sokolská 1095\, Kolín\, Středočeský\, 28002\, Česká republika
CATEGORIES:Semináře
END:VEVENT
END:VCALENDAR