BEGIN:VCALENDAR
VERSION:2.0
PRODID:-//MAP vzdělávání na Kolínsku - ECPv6.14.2//NONSGML v1.0//EN
CALSCALE:GREGORIAN
METHOD:PUBLISH
X-WR-CALNAME:MAP vzdělávání na Kolínsku
X-ORIGINAL-URL:https://www.map-kolin.cz
X-WR-CALDESC:Akce na MAP vzdělávání na Kolínsku
REFRESH-INTERVAL;VALUE=DURATION:PT1H
X-Robots-Tag:noindex
X-PUBLISHED-TTL:PT1H
BEGIN:VTIMEZONE
TZID:Europe/Prague
BEGIN:DAYLIGHT
TZOFFSETFROM:+0100
TZOFFSETTO:+0200
TZNAME:CEST
DTSTART:20210328T010000
END:DAYLIGHT
BEGIN:STANDARD
TZOFFSETFROM:+0200
TZOFFSETTO:+0100
TZNAME:CET
DTSTART:20211031T010000
END:STANDARD
BEGIN:DAYLIGHT
TZOFFSETFROM:+0100
TZOFFSETTO:+0200
TZNAME:CEST
DTSTART:20220327T010000
END:DAYLIGHT
BEGIN:STANDARD
TZOFFSETFROM:+0200
TZOFFSETTO:+0100
TZNAME:CET
DTSTART:20221030T010000
END:STANDARD
END:VTIMEZONE
BEGIN:VEVENT
DTSTART;TZID=Europe/Prague:20220818T090000
DTEND;TZID=Europe/Prague:20220818T160000
DTSTAMP:20260422T125910
CREATED:20220509T070701Z
LAST-MODIFIED:20220810T142934Z
UID:1280-1660813200-1660838400@www.map-kolin.cz
SUMMARY:Letní škola - ZŠ - Česky raz dva – děti s OMJ v ZŠ - jednodenní
DESCRIPTION:Jak komunikovat s cizinci? Jak se liší výuka češtiny pro Čechy od výuky pro cizince? Jaké materiály (ne)využívat? Kde se inspirovat? Seminář bude vycházet z představení souboru materiálů Česky raz dva (2022)\, který je zaměřen na výuku dětí-cizinců ve věkové kategorii 7-12 let. Materiály obsahují metodiku pro vyučující\, učební listy\, gramaticky rozšiřující pracovní listy a sadu aktivit ke každé lekci. V rámci semináře se seznámíme s celou koncepcí Česky raz dva a strukturou jednotlivých lekcí. Řekneme si\, jak s učebními i pracovními listy a rozšiřujícími aktivitami o hodinách pracovat. Prostor bude také pro sdílení zkušeností a diskuse účastníků. \nLektorují: Mgr. Andrea Halaštová\, Mgr. Michaela Hörzenbergerová \nDo formuláře přihlášení prosím uveďte kontaktní údaje (telefon\, e-mail) na kterých budete k zastižení o prázdninách.
URL:https://www.map-kolin.cz/akce/letni-skola-zs-cesky-raz-dva-deti-s-omj-v-zs-18-8-2022/
LOCATION:CEROP Kolín\, Sokolská 1095\, Kolín\, Středočeský\, 28002\, Česká republika
CATEGORIES:Semináře
END:VEVENT
BEGIN:VEVENT
DTSTART;TZID=Europe/Prague:20220817T090000
DTEND;TZID=Europe/Prague:20220817T160000
DTSTAMP:20260422T125910
CREATED:20220509T071628Z
LAST-MODIFIED:20220810T142950Z
UID:1288-1660726800-1660752000@www.map-kolin.cz
SUMMARY:Letní škola - ZŠ - Výuka venku a jak formativně hodnotit? (pro učitele 1. stupně) - jednodenní
DESCRIPTION:Výuka venku – příprava (co mít vždy s sebou) – výhody a nevýhody výuky venku. Společná tvorba pomůcek do hodin přírodovědy a přírodovědných aktivit posilující vztahy ve třídě. Aktivity s přírodovědnou tématikou\, které díky průřezovým tématům využijete i\nv hodinách českého jazyka\, matematiky a dalších předmětů. Podpořte rozvoj kritického a kreativního myšlení žáků na čerstvém vzduchu. Chcete hodnotit tak\, abyste děti podpořili k další práci a tak\, aby se zlepšovaly? Společně nahlédneme do základů formativního hodnocení. \nLektoruje: Mgr. Kateřina Čiháková \n  \nDo formuláře přihlášení prosím uveďte kontaktní údaje (telefon\, e-mail) na kterých budete k zastižení o prázdninách.
URL:https://www.map-kolin.cz/akce/letni-skola-zs-vyuka-venku-a-jak-formativne-hodnotit-pro-ucitele-1-stupne-17-8-2022/
LOCATION:CEROP Kolín\, Sokolská 1095\, Kolín\, Středočeský\, 28002\, Česká republika
CATEGORIES:Semináře
END:VEVENT
BEGIN:VEVENT
DTSTART;TZID=Europe/Prague:20220817T090000
DTEND;TZID=Europe/Prague:20220817T160000
DTSTAMP:20260422T125910
CREATED:20220509T071010Z
LAST-MODIFIED:20220810T143016Z
UID:1284-1660726800-1660752000@www.map-kolin.cz
SUMMARY:Letní škola - ZŠ - Aktivity podporující informatické myšlení ve vyučovacích předmětech - jednodenní
DESCRIPTION:Ukážeme si aktivity nejen do hodin informatiky k rozvíjení digitální klíčové kompetence a informatického myšlení. Poradíme si\, jak zapojit informatiku i v rámci jiných vyučovacích předmětů. Zážitkovou pedagogikou si vyzkoušíme jednotlivé aktivity a možná\nsi odnesete tipy a triky do Vašich hodin. \nLektoruje: Mgr. Iva Hervertová \n  \nDo formuláře přihlášení prosím uveďte kontaktní údaje (telefon\, e-mail) na kterých budete k zastižení o prázdninách.
URL:https://www.map-kolin.cz/akce/letni-skola-zs-aktivity-podporujici-informaticke-mysleni-ve-vyucovacich-predmetech-17-8-2022/
LOCATION:Pension Pod věží – salonek\, Parléřova 40\, Kolín\, Česká republika
CATEGORIES:Semináře
END:VEVENT
BEGIN:VEVENT
DTSTART;TZID=Europe/Prague:20220817T090000
DTEND;TZID=Europe/Prague:20220817T160000
DTSTAMP:20260422T125910
CREATED:20220509T070605Z
LAST-MODIFIED:20220810T143053Z
UID:1278-1660726800-1660752000@www.map-kolin.cz
SUMMARY:Letní škola - ZŠ - Česky raz dva – děti s OMJ v ZŠ - jednodenní
DESCRIPTION:Jak komunikovat s cizinci? Jak se liší výuka češtiny pro Čechy od výuky pro cizince? Jaké materiály (ne)využívat? Kde se inspirovat? Seminář bude vycházet z představení souboru materiálů Česky raz dva (2022)\, který je zaměřen na výuku dětí-cizinců ve věkové\nkategorii 7-12 let. Materiály obsahují metodiku pro vyučující\, učební listy\, gramaticky rozšiřující pracovní listy a sadu aktivit ke každé lekci. V rámci semináře se seznámíme s celou koncepcí Česky raz dva a strukturou jednotlivých lekcí. Řekneme si\, jak s\nučebními i pracovními listy a rozšiřujícími aktivitami o hodinách pracovat. Prostor bude také pro sdílení zkušeností a diskuse účastníků. \nLektorují: Mgr. Andrea Halaštová\, Mgr. Michaela Hörzenbergerová \n  \nDo formuláře přihlášení prosím uveďte kontaktní údaje (telefon\, e-mail) na kterých budete k zastižení o prázdninách.
URL:https://www.map-kolin.cz/akce/letni-skola-zs-cesky-raz-dva-deti-s-omj-v-zs-17-8-2022/
LOCATION:CEROP Kolín\, Sokolská 1095\, Kolín\, Středočeský\, 28002\, Česká republika
CATEGORIES:Semináře
END:VEVENT
BEGIN:VEVENT
DTSTART;TZID=Europe/Prague:20220816T090000
DTEND;TZID=Europe/Prague:20220816T160000
DTSTAMP:20260422T125910
CREATED:20220509T063714Z
LAST-MODIFIED:20220810T144359Z
UID:1270-1660640400-1660665600@www.map-kolin.cz
SUMMARY:Letní škola - MŠ -Digi bez digi - digitální vzdělávání dětí v MŠ - jednodenní
DESCRIPTION:Znovu zařazujeme velmi úspěšný seminář loňské LŠ zaměřený na digitální vzdělávání dětí v mateřských školách. Pedagogy čeká seznámení s tématy z digitálního světa a jeho základními pojmy jako jsou signál\, přenos dat\, internet atd. Dále spousta inspirace aukázek\, jak tato témata dětem předávat\, a předvedení robotických hraček vhodných pro výuku digitální gramotnosti již od 3 let. Vše názorně\, jednoduše\, bez tabletů a počítačů. Cílem semináře je představit pedagogům nové metody\, jak rozvíjet u dětíinformatické myšlení a bezpečně je uvést do světa digitálních technologií. \nLektoruje: Barbora Vítová\, BBA. \n  \nDo formuláře přihlášení prosím uveďte kontaktní údaje (telefon\, e-mail) na kterých budete k zastižení o prázdninách.
URL:https://www.map-kolin.cz/akce/letni-skola-ms-digi-bez-digi-digitalni-vzdelavani-deti-v-ms-16-8-2022/
LOCATION:CEROP Kolín\, Sokolská 1095\, Kolín\, Středočeský\, 28002\, Česká republika
CATEGORIES:Semináře
END:VEVENT
BEGIN:VEVENT
DTSTART;TZID=Europe/Prague:20220815T090000
DTEND;TZID=Europe/Prague:20220816T160000
DTSTAMP:20260422T125910
CREATED:20220509T064629Z
LAST-MODIFIED:20220810T144656Z
UID:1276-1660554000-1660665600@www.map-kolin.cz
SUMMARY:Letní škola - MŠ - Začleňování dětí s odlišným mateřským jazykem do českého předškolního vzdělávání - dvoudenní
DESCRIPTION:Začleňování dětí s odlišným mateřským jazykem do českého předškolního vzdělávání – META Praha\, o.p.s.Seminář nabízí úvod do začleňování dětí s odlišným mateřským jazykem do MŠ a jazykovou podporu dětí s OMJ v mateřských školách. Účastníci získají tipy\, podklady\, metodická doporučení a základní informace k jednotlivým oblastem této problematiky.Dále i předpoklady k práci s jazykově rozmanitou skupinou a k poskytování účelné podpory dětem s OMJ. Informace o metodě KIKUS\, tipy a náměty ke konkrétním činnostem. Součástí semináře budou nejen video záznamy lekcí češtiny z praxe\, ale také příprava jazykových činností samotnými účastníky. Prostor bude i pro sdílení zkušeností a diskusi účastníků. Akreditováno MŠMT.  \n  \nLektorují: Mgr. Barbora Dvořáková\, Mgr. Martina Radvanová\, Jana Keblová\, DiS.\, Mgr. et Mgr. Pavla Benešová \n  \nDo formuláře přihlášení prosím uveďte kontaktní údaje (telefon\, e-mail) na kterých budete k zastižení o prázdninách.
URL:https://www.map-kolin.cz/akce/letni-skola-ms-zaclenovani-deti-s-odlisnym-materskym-jazykem-do-ceskeho-predskolniho-vzdelavani-15-16-8-2022/
LOCATION:CEROP Kolín\, Sokolská 1095\, Kolín\, Středočeský\, 28002\, Česká republika
CATEGORIES:Semináře
END:VEVENT
BEGIN:VEVENT
DTSTART;TZID=Europe/Prague:20220815T090000
DTEND;TZID=Europe/Prague:20220816T160000
DTSTAMP:20260422T125910
CREATED:20220509T064406Z
LAST-MODIFIED:20220810T144325Z
UID:1273-1660554000-1660665600@www.map-kolin.cz
SUMMARY:Letní škola - MŠ - Montessori prvky v MŠ - dvoudenní
DESCRIPTION:Interaktivní Montessori dílna Vás seznámí s různými možnostmi využití prvků Montessori pedagogiky v běžné mateřské škole. V úvodní teoretické části se budeme věnovat alternativnímu směru Montessori\, osobnosti Marie Montessori\, jejímu pojetí dítěte a pedagogiky s veškerými principy a pohledem na osobnost učitele i osobnost dítěte. V praktické části se zaměříme na vznik a vývoj třídního vzdělávacího programu s prvky Montessori pedagogiky v podmínkách běžné mateřské školy. Společně si zažijeme svobodnou volbu metod ve vztahu k potřebám a zájmům dětí. V závěrečné reflexi se podíváme na to\, do jaké míry je možné zařadit do prostředí běžné mateřské školy prvky Montessori pedagogiky tak\, aby bylo vše v souladu s Rámcovým vzdělávacím programem. Čeká na Vás mnoho inspirace a zážitků. \nLektoruje: Mgr. Veronika Svobodová \n  \nDo formuláře přihlášení prosím uveďte kontaktní údaje (telefon\, e-mail) na kterých budete k zastižení o prázdninách.
URL:https://www.map-kolin.cz/akce/letni-skola-ms-montessori-prvky-v-ms-15-16-8-2022/
LOCATION:Pension Pod věží – salonek\, Parléřova 40\, Kolín\, Česká republika
CATEGORIES:Semináře
END:VEVENT
BEGIN:VEVENT
DTSTART;TZID=Europe/Prague:20220815T090000
DTEND;TZID=Europe/Prague:20220815T160000
DTSTAMP:20260422T125910
CREATED:20220509T063516Z
LAST-MODIFIED:20220810T143419Z
UID:1264-1660554000-1660579200@www.map-kolin.cz
SUMMARY:Letní škola - MŠ - Hra venku jako základ učení -  jednodenní
DESCRIPTION:Potřebují dnešní děti hraní venku? Je kontakt s přírodou opravdu tak zásadní pro zdravý rozvoj dětí? V čem? Má i v dnešní době smysl nechat děti si venku jen tak volně hrát? Neztrácí se tím drahocenný čas pro skutečně vedený rozvoj dětí? Pozorování dětípři jejich objevech\, hrách a učení venku nám dává každý den důkazy\, jak ohromná příležitost pro rozvoj studentů\, malých dětí i nás učitelů\, nabízí nejen příroda\, ale také centra měst plné architektury i nové městské divočiny. To vše jsou učebny\, které startujíu dětí víc zájmu\, otázek i vnitřní motivace. Téma semináře je odlišné od loňského tématu. \nLektoruje: Mgr. Justina Danišová\, autorka knihy \,\,Svobodná hra – Jak nechat vyrůst radostné\, odolné a samostatné děti.“ \n  \nDo formuláře přihlášení prosím uveďte kontaktní údaje (telefon\, e-mail) na kterých budete k zastižení o prázdninách.
URL:https://www.map-kolin.cz/akce/letni-skola-ms-hra-venku-jako-zaklad-uceni/
LOCATION:CEROP Kolín\, Sokolská 1095\, Kolín\, Středočeský\, 28002\, Česká republika
CATEGORIES:Semináře
END:VEVENT
BEGIN:VEVENT
DTSTART;TZID=Europe/Prague:20220602T160000
DTEND;TZID=Europe/Prague:20220602T173000
DTSTAMP:20260422T125910
CREATED:20220509T075220Z
LAST-MODIFIED:20220509T075745Z
UID:1295-1654185600-1654191000@www.map-kolin.cz
SUMMARY:Základy tvorby únikových her v Googleslides2
DESCRIPTION:
URL:https://www.map-kolin.cz/akce/zaklady-tvorby-unikovych-her-v-googleslides2/
LOCATION:Webinář
END:VEVENT
BEGIN:VEVENT
DTSTART;TZID=Europe/Prague:20220518T170000
DTEND;TZID=Europe/Prague:20220518T190000
DTSTAMP:20260422T125910
CREATED:20211111T131044Z
LAST-MODIFIED:20220518T062909Z
UID:1120-1652893200-1652900400@www.map-kolin.cz
SUMMARY:ZDRAVÉ ŠTÍSTKO - aneb cvičení pro rodiče a pedagogy dětí (MŠ\, 1. a 2. třída)
DESCRIPTION: 
URL:https://www.map-kolin.cz/akce/zdrave-stistko-aneb-cviceni-pro-rodice-a-pedagogy-deti-ms-1-a-2-trida/
LOCATION:CEROP Kolín\, Sokolská 1095\, Kolín\, Středočeský\, 28002\, Česká republika
CATEGORIES:Semináře
END:VEVENT
BEGIN:VEVENT
DTSTART;TZID=Europe/Prague:20220505T090000
DTEND;TZID=Europe/Prague:20220505T120000
DTSTAMP:20260422T125910
CREATED:20220315T054334Z
LAST-MODIFIED:20220427T113731Z
UID:1196-1651741200-1651752000@www.map-kolin.cz
SUMMARY:Exkurze - Školní lesní podnik ZČU - Kostelec nad Černými lesy
DESCRIPTION:
URL:https://www.map-kolin.cz/akce/exkurze-skolni-lesni-podnik-zcu-kostelec-nad-cernymi-lesy/
LOCATION:Školní lesní podnik\, nám. Smiřických 1\, Kostelec nad Černými lesy\, Středočeský
END:VEVENT
BEGIN:VEVENT
DTSTART;TZID=Europe/Prague:20220428T153000
DTEND;TZID=Europe/Prague:20220428T170000
DTSTAMP:20260422T125910
CREATED:20220407T121828Z
LAST-MODIFIED:20220427T113754Z
UID:1230-1651159800-1651165200@www.map-kolin.cz
SUMMARY:Základy tvorby únikových her v Googleslides
DESCRIPTION:
URL:https://www.map-kolin.cz/akce/zaklady-tvorby-unikovych-her-v-googleslides/
LOCATION:Webinář
END:VEVENT
BEGIN:VEVENT
DTSTART;TZID=Europe/Prague:20220323T150000
DTEND;TZID=Europe/Prague:20220323T170000
DTSTAMP:20260422T125910
CREATED:20220222T082025Z
LAST-MODIFIED:20220224T091402Z
UID:1170-1648047600-1648054800@www.map-kolin.cz
SUMMARY:Mediace - jak jednat s rozčileným rodičem?
DESCRIPTION:
URL:https://www.map-kolin.cz/akce/mediace-jak-jednat-s-rozcilenym-rodicem/
LOCATION:CEROP Kolín\, Sokolská 1095\, Kolín\, Středočeský\, 28002\, Česká republika
CATEGORIES:Semináře
END:VEVENT
BEGIN:VEVENT
DTSTART;TZID=Europe/Prague:20211111T170000
DTEND;TZID=Europe/Prague:20211111T190000
DTSTAMP:20260422T125910
CREATED:20211101T124804Z
LAST-MODIFIED:20211110T071229Z
UID:1100-1636650000-1636657200@www.map-kolin.cz
SUMMARY:Jak spolu s dítětem zvládnout volbu povolání - webinář -
DESCRIPTION:ÚČAST JE ZDARMA\nLink pro přihlášení:\nhttps://us06web.zoom.us/j/82496375469
URL:https://www.map-kolin.cz/akce/jak-spolu-s-ditetem-zvladnout-volbu-povolani-webinar-2/
LOCATION:Webinář
END:VEVENT
BEGIN:VEVENT
DTSTART;TZID=Europe/Prague:20211105T120000
DTEND;TZID=Europe/Prague:20211106T120000
DTSTAMP:20260422T125910
CREATED:20210902T112019Z
LAST-MODIFIED:20210920T052451Z
UID:1048-1636113600-1636200000@www.map-kolin.cz
SUMMARY:Konference ředitelů škol ORP Kolín
DESCRIPTION:Akce je určena POUZE pro ředitelky a ředitele školského zařízení na území ORP Kolín.\nVážená paní ředitelko\, vážený pane řediteli\, \nchtěli bychom Vás jménem MAP II na Kolínsku pozvat na Konferenci ředitelů ORP Kolín. \nAkce se uskuteční 5.- 6.11. 2021 v Jičíně v Hotelu RESTART https://www.hotelrestart.cz/ \nCílem akce je zejména sdílení zkušeností v podobě neformálních rozhovorů – jinak řečeno vidět se\, diskutovat a hlavně si odpočinout od pracovního koloběhu. \n5. 11.  2021- příjezd \n\n12:00 oběd – výběr ze 4 hlavních chodů\n13:00  ubytování\n14:00 konfereční odpoledne – host PaeDr. Ladislav Hrzal – MŠMT – školský ombudsman – „Agenda školského ombudsmana“ \n15:30 cofeebreak\n16:00 netradiční aktivita pro ředitele „Pane učiteli\, už je čas …“\n18:00 společná večeře formou rautu +  následné posezení v hotelovém lounge\n\n6.11. 2021  – odjezd \n\n8:00 snídaně formou bufetu\n10:00 odubytování individuální aktivity v  hotelu či městě Jičín\nv rámci hotelu bude možné využít služby – sauna\, wellness\, masáže (nehrazeno – bude možné objednat)\naquapark\, sportoviště přímo přiléhají k hotelu (nehrazeno – bude možné objednat)\n\nUbytování: zajištěno v dvoulůžkových pokojích typu Executive \nDoprava:  individuální \nOdkaz pro přihlášení: https://www.map-kolin.cz/akce/konference-reditelu-skol-orp-kolin/ \nDetailní informace (výběr stravy\, spolubydlící\, výběr doplňkových aktivit) Vám budou zaslány na základě přihlášky ke konci měsíce září 2021) \nTěšíme se na setkání s Vámi \nTým MAP II na Kolínsku \nV případě dotazů kontaktujte Mgr. Davida Záhoru – 605 013 637 – skolstvi@maszalabi.eu \n 
URL:https://www.map-kolin.cz/akce/konference-reditelu-skol-orp-kolin/
LOCATION:Hotel RESTART\, Revoluční 1267\, Jičín\, Středočeský\, Česká republika
END:VEVENT
BEGIN:VEVENT
DTSTART;TZID=Europe/Prague:20210818T090000
DTEND;TZID=Europe/Prague:20210819T160000
DTSTAMP:20260422T125910
CREATED:20210511T132525Z
LAST-MODIFIED:20210727T054157Z
UID:872-1629277200-1629388800@www.map-kolin.cz
SUMMARY:Letní škola - 18.-19.8.2021 - Metody aktivního učení aneb když se mozek dobře učí - ZŠ
DESCRIPTION:Metody aktivního učení aneb když se mozek dobře učí\nÚčastníci semináře se budou zabývat tím\, jak ve školní praxi využívat principy konstruktivistické pedagogiky\, jak plánovat výuku pomocí třífázového modelu učení E-U-R a plánovat výuku pozpátku. Vyzkoušejí si různé metody vhodné pro jednotlivé fáze učení (evokace\, uvědomění si významu i reflexi)\, budou je reflektovat z pohledu žáka i učitele. Identifikují dílčí dovednosti\, které jsou představenými metodami rozvíjeny. Odhalí\, jak jejich prostřednictvím přesouvat aktivitu v hodině na žáky. \nTěší se na Vás lektorka Kamila Zemanová
URL:https://www.map-kolin.cz/akce/letni-skola-18-19-8-2021-metody-aktivniho-uceni-aneb-kdyz-se-mozek-dobre-uci-zs/
LOCATION:Pension Pod věží – salonek\, Parléřova 40\, Kolín\, Česká republika
CATEGORIES:Semináře
END:VEVENT
BEGIN:VEVENT
DTSTART;TZID=Europe/Prague:20210818T090000
DTEND;TZID=Europe/Prague:20210819T160000
DTSTAMP:20260422T125910
CREATED:20210511T132410Z
LAST-MODIFIED:20210727T054229Z
UID:879-1629277200-1629388800@www.map-kolin.cz
SUMMARY:Letní škola - 18.-19.8.2021 - Komunikace v náročných situacích - ZŠ
DESCRIPTION:Komunikace v náročných situacích\nV rámci semináře prozkoumáme základní parametry symetrické respektující komunikace. Zaměříme se na posilování komunikačních kompetencí pedagogů v různých komunikačních situacích (jako jednotlivců i v rámci školního týmu). Budeme se věnovat zvládání efektivních výchovných a komunikačních postupů v běžných i konfliktních situacích\, posílíme svou dovednost symetricky komunikovat při spolupráci s rodiči\, kolegy i žáky. Budeme rozlišovat jazyk popisný a hodnotící\, zaměříme se na vědomé používání popisného jazyka. Prozkoumáme vybrané komunikační projevy\, které budí vztahovou nepohodu. Součástí semináře je práce na konkrétních komunikačních příbězích účastníků\, trénink dávání a přijímání zpětné vazby. \nTěší se na Vás lektorka Petra Zemanská
URL:https://www.map-kolin.cz/akce/letni-skola-18-19-8-2021-komunikace-v-narocnych-situacich-zs/
LOCATION:Knihovna Kolín\, Husova 69\, Kolín\, 28002\, Česká republika
CATEGORIES:Semináře
END:VEVENT
BEGIN:VEVENT
DTSTART;TZID=Europe/Prague:20210818T090000
DTEND;TZID=Europe/Prague:20210819T160000
DTSTAMP:20260422T125910
CREATED:20210507T095201Z
LAST-MODIFIED:20210727T054258Z
UID:874-1629277200-1629388800@www.map-kolin.cz
SUMMARY:Letní škola - 18.-19.8. 2021 - Formativní hodnocení - hodnocení\, které pomáhá růst - ZŠ
DESCRIPTION:Formativní hodnocení – hodnocení\, které pomáhá růst\nV rámci semináře prozkoumáme jeden z nejúčinnějších postupů vedoucích k efektivnímu vzdělávání žáků v heterogenních kolektivech. Seznámíme se s pěti strategiemi formativního hodnocení podle D. Wiliama. Budeme hledat rozdíly mezi sumativním a formativním hodnocením. Zaměříme pozornost na to\, co dělá učitel\, který formativně hodnotí. Vzájemně se podpoříme praktickými zkušenostmi a argumenty\, aby se nám dařilo systematicky zavádět postupy formativního hodnocení ve své výuce. \nTěší se na Vás lektorky Kateřina Mikšovská a Dagmar Burdová
URL:https://www.map-kolin.cz/akce/letni-skola-18-19-8-2021-formativni-hodnoceni-hodnoceni-ktere-pomaha-ms/
LOCATION:Fara Kolín\, Brandlova 25\, Kolín\, 28002\, Česká republika
CATEGORIES:Semináře
END:VEVENT
BEGIN:VEVENT
DTSTART;TZID=Europe/Prague:20210817T090000
DTEND;TZID=Europe/Prague:20210817T160000
DTSTAMP:20260422T125910
CREATED:20210511T133012Z
LAST-MODIFIED:20210727T054323Z
UID:866-1629190800-1629216000@www.map-kolin.cz
SUMMARY:Letní škola - 17.8.2021 - Příprava předškoláka - správný sed\, uvolnění kloubů horní končetiny - MŠ
DESCRIPTION:Příprava předškoláka – správný sed\, uvolnění kloubů horní končetiny\nTímto seminářem vás provede diplomovaná zdravotní sestra a fyzioterapeutka s dvacetiletou praxí Mgr. Petra Nyklová\, DiS. Po absolvování kurzu zvládnete účinné metody rozvoje jemné motoriky\, uvolnění paže a zdravý sed u předškoláka. Během pár hodin se naučíte\, jak zakomponovat správný sed do veškerých aktivit budoucího prvňáčka (učení\, kreslení\, stříhání\, svačina\, oběd\, hraní apod.)\, vložit do každodenních pohybových her vhodná rozvojová cvičení\, na která se děti budou vždy těšit\, ale také zapojit rodiče do výchovy ke správným pohybovým návykům jejich dětí.
URL:https://www.map-kolin.cz/akce/letni-skola-17-8-2021-priprava-predskolaka-spravny-sed-uvolneni-kloubu-horni-koncetiny-ms/
LOCATION:Fara Kolín\, Brandlova 25\, Kolín\, 28002\, Česká republika
CATEGORIES:Semináře
END:VEVENT
BEGIN:VEVENT
DTSTART;TZID=Europe/Prague:20210817T090000
DTEND;TZID=Europe/Prague:20210817T160000
DTSTAMP:20260422T125910
CREATED:20210511T132737Z
LAST-MODIFIED:20210727T054352Z
UID:870-1629190800-1629216000@www.map-kolin.cz
SUMMARY:Letní škola - 17.8.2021 - DIGI bez DIGI - MŠ
DESCRIPTION:DIGI bez DIGI\nTento seminář nabízí pedagogům pohled na digitální vzdělávání dětí v mateřských školách. Pedagogy čeká seznámení s tématy z digitálního světa a jeho základními pojmy jako jsou signál\, přenos dat\, internet atd. Dále spousta inspirace a ukázek\, jak tato témata dětem předávat\, a předvedení robotických hraček vhodných pro výuku digitální gramotnosti již od 3 let. Vše názorně\, jednoduše\, bez tabletů a počítačů. Cílem semináře je představit pedagogům nové metody\, jak rozvíjet u dětí informatické myšlení a bezpečně je uvést do světa digitálních technologií. \nTěší se na Vás lektorka Barbora Vítová
URL:https://www.map-kolin.cz/akce/letni-skola-17-8-2021-digi-bez-digi-ms/
LOCATION:CEROP Kolín\, Sokolská 1095\, Kolín\, Středočeský\, 28002\, Česká republika
CATEGORIES:Semináře
END:VEVENT
BEGIN:VEVENT
DTSTART;TZID=Europe/Prague:20210817T090000
DTEND;TZID=Europe/Prague:20210817T160000
DTSTAMP:20260422T125910
CREATED:20210511T132649Z
LAST-MODIFIED:20210727T054422Z
UID:858-1629190800-1629216000@www.map-kolin.cz
SUMMARY:Letní škola - 17.8.2021 - Učíme se venku - MŠ
DESCRIPTION:Potřebují dnešní děti hraní venku?\nJe kontakt s přírodou opravdu tak zásadní pro zdravý rozvoj dětí? Váháte\, jak pravidelně vyrážet s dětmi ven nebo vám chybí inspirace? Objevte nápady na hry\, pomůcky i vybavení do terénu\, které se nám osvědčilo. Vyzkoušejte si hry na vlastní kůži. Získejte přehled\, co vše lze s dětmi venku zažít. Hraní\, tvoření a bádání venku totiž dětem (i učitelům) přináší řadu výhod. Výzkumy ukázaly\, že kromě rozvoje psychického i fyzického zdraví čas venku dětem pomáhá zlepšovat pozornost\, náladu i vztahy ve třídě. \nTěší se na Vás lektorka Pavla Hoppová
URL:https://www.map-kolin.cz/akce/letni-skola-17-8-2021-ucime-se-venku-ms/
LOCATION:Pension Pod věží – salonek\, Parléřova 40\, Kolín\, Česká republika
CATEGORIES:Semináře
END:VEVENT
BEGIN:VEVENT
DTSTART;TZID=Europe/Prague:20210816T090000
DTEND;TZID=Europe/Prague:20210816T160000
DTSTAMP:20260422T125910
CREATED:20210511T133503Z
LAST-MODIFIED:20210727T054447Z
UID:847-1629104400-1629129600@www.map-kolin.cz
SUMMARY:Letní škola - 16.8.2021 - Učíme se venku - MŠ
DESCRIPTION:Potřebují dnešní děti hraní venku?\nJe kontakt s přírodou opravdu tak zásadní pro zdravý rozvoj dětí? Váháte\, jak pravidelně vyrážet s dětmi ven nebo vám chybí inspirace? Objevte nápady na hry\, pomůcky i vybavení do terénu\, které se nám osvědčilo. Vyzkoušejte si hry na vlastní kůži. Získejte přehled\, co vše lze s dětmi venku zažít. Hraní\, tvoření a bádání venku totiž dětem (i učitelům) přináší řadu výhod. Výzkumy ukázaly\, že kromě rozvoje psychického i fyzického zdraví čas venku dětem pomáhá zlepšovat pozornost\, náladu i vztahy ve třídě. \nTěší se na Vás lektorka Pavla Hoppová
URL:https://www.map-kolin.cz/akce/letni-skola-16-8-2021-ucime-se-venku-ms/
LOCATION:Pension Pod věží – salonek\, Parléřova 40\, Kolín\, Česká republika
CATEGORIES:Semináře
END:VEVENT
BEGIN:VEVENT
DTSTART;TZID=Europe/Prague:20210816T090000
DTEND;TZID=Europe/Prague:20210816T160000
DTSTAMP:20260422T125910
CREATED:20210511T133357Z
LAST-MODIFIED:20210727T054517Z
UID:864-1629104400-1629129600@www.map-kolin.cz
SUMMARY:Letní škola - 16.8.2021 - Příprava předškoláka - správný sed\, uvolnění kloubů horní končetiny - MŠ
DESCRIPTION:Příprava předškoláka – správný sed\, uvolnění kloubů horní končetiny\nTímto seminářem vás provede diplomovaná zdravotní sestra a fyzioterapeutka s dvacetiletou praxí Mgr. Petra Nyklová\, DiS. Po absolvování kurzu zvládnete účinné metody rozvoje jemné motoriky\, uvolnění paže a zdravý sed u předškoláka. Během pár hodin se naučíte\, jak zakomponovat správný sed do veškerých aktivit budoucího prvňáčka (učení\, kreslení\, stříhání\, svačina\, oběd\, hraní apod.)\, vložit do každodenních pohybových her vhodná rozvojová cvičení\, na která se děti budou vždy těšit\, ale také zapojit rodiče do výchovy ke správným pohybovým návykům jejich dětí.
URL:https://www.map-kolin.cz/akce/letni-skola-16-8-2021-priprava-predskolaka-spravny-sed-uvolneni-kloubu-horni-koncetiny-ms/
LOCATION:Fara Kolín\, Brandlova 25\, Kolín\, 28002\, Česká republika
CATEGORIES:Semináře
END:VEVENT
BEGIN:VEVENT
DTSTART;TZID=Europe/Prague:20210816T090000
DTEND;TZID=Europe/Prague:20210816T160000
DTSTAMP:20260422T125910
CREATED:20210511T133251Z
LAST-MODIFIED:20210727T054601Z
UID:861-1629104400-1629129600@www.map-kolin.cz
SUMMARY:Letní škola - 16.8.2021 - Čtení a hraní je ve školce totéž - MŠ
DESCRIPTION:Čtení a hraní je ve školce totéž\nNa workshopu pro učitelky mateřských škol se zaměříme na to\, jak propojit čtení a hraní. V dopoledním tříhodinovém bloku bude trocha metodiky a zkušeností z praxe. Ale hlavně užitečné hry s knížkou a možná si společně jednu celou knihu přečteme. Odpoledne si pohrajeme s obrázkovými knihami a dojde i na sdílení zkušeností. Pokud máte nějakou oblíbenou knihu\, kterou mají děti rády a se kterou pracujete\, vezměte ji určitě s sebou. Budete mít také možnost prohlédnout si i další osvědčené a hlavně současné knihy\, vhodné pro děti v mateřské škole. \nTěší se na Vás lektorka Hana Holubkovová
URL:https://www.map-kolin.cz/akce/letni-skola-16-8-2021-cteni-a-hrani-je-ve-skolce-totez-ms/
LOCATION:Knihovna Kolín\, Husova 69\, Kolín\, 28002\, Česká republika
CATEGORIES:Semináře
END:VEVENT
BEGIN:VEVENT
DTSTART;TZID=Europe/Prague:20210506T170000
DTEND;TZID=Europe/Prague:20210506T183000
DTSTAMP:20260422T125910
CREATED:20210426T041451Z
LAST-MODIFIED:20210507T065459Z
UID:829-1620320400-1620325800@www.map-kolin.cz
SUMMARY:"Jak spolu s dítětem zvládnout volbu povolání?" - webinář
DESCRIPTION:
URL:https://www.map-kolin.cz/akce/jak-spolu-s-ditetem-zvladnout-volbu-povolani-webinar/
LOCATION:ZOOM
END:VEVENT
BEGIN:VEVENT
DTSTART;TZID=Europe/Prague:20210414T170000
DTEND;TZID=Europe/Prague:20210414T170000
DTSTAMP:20260422T125910
CREATED:20210329T094856Z
LAST-MODIFIED:20210414T034341Z
UID:743-1618419600-1618419600@www.map-kolin.cz
SUMMARY:Psychohygiena a timemanagement pro rodiče
DESCRIPTION:s lektorkou \nMgr. Lenkou Dokládalovou Bednářovou\nAbsolventkou Sociální pedagogiky a Učitelství na Univerzitě v Hradci Králové \nPři své práci využívá interaktivní techniky s prvky zážitkové pedagogiky\, poznatky a aktuální trendy v oblasti rizikového chování. \nVe středu 14. dubna 2021 od 17:00 hodin on-line na platformě ZOOM\nVygenerovaný link k přístupu a další informace Vám budou zaslány před zahájením setkání.
URL:https://www.map-kolin.cz/akce/psychohygiena-a-timemanagement-pro-rodice/
LOCATION:ZOOM
END:VEVENT
END:VCALENDAR