BEGIN:VCALENDAR
VERSION:2.0
PRODID:-//MAP vzdělávání na Kolínsku - ECPv6.14.2//NONSGML v1.0//EN
CALSCALE:GREGORIAN
METHOD:PUBLISH
X-ORIGINAL-URL:https://www.map-kolin.cz
X-WR-CALDESC:Akce na MAP vzdělávání na Kolínsku
REFRESH-INTERVAL;VALUE=DURATION:PT1H
X-Robots-Tag:noindex
X-PUBLISHED-TTL:PT1H
BEGIN:VTIMEZONE
TZID:Europe/Prague
BEGIN:DAYLIGHT
TZOFFSETFROM:+0100
TZOFFSETTO:+0200
TZNAME:CEST
DTSTART:20240331T010000
END:DAYLIGHT
BEGIN:STANDARD
TZOFFSETFROM:+0200
TZOFFSETTO:+0100
TZNAME:CET
DTSTART:20241027T010000
END:STANDARD
BEGIN:DAYLIGHT
TZOFFSETFROM:+0100
TZOFFSETTO:+0200
TZNAME:CEST
DTSTART:20250330T010000
END:DAYLIGHT
BEGIN:STANDARD
TZOFFSETFROM:+0200
TZOFFSETTO:+0100
TZNAME:CET
DTSTART:20251026T010000
END:STANDARD
END:VTIMEZONE
BEGIN:VEVENT
DTSTART;TZID=Europe/Prague:20250514T160000
DTEND;TZID=Europe/Prague:20250514T180000
DTSTAMP:20260421T203259
CREATED:20250312T155751Z
LAST-MODIFIED:20250312T160104Z
UID:3391-1747238400-1747245600@www.map-kolin.cz
SUMMARY:Hrátky s umělou inteligencí
DESCRIPTION:
URL:https://www.map-kolin.cz/akce/hratky-s-umelou-inteligenci-2/
LOCATION:CEROP Kolín\, Sokolská 1095\, Kolín\, Středočeský\, 28002\, Česká republika
CATEGORIES:Workshopy
ORGANIZER;CN="Mgr. Iva Hervertov%C3%A1":MAILTO:map.kolin@podlipansko.cz
END:VEVENT
BEGIN:VEVENT
DTSTART;TZID=Europe/Prague:20250513T150000
DTEND;TZID=Europe/Prague:20250513T170000
DTSTAMP:20260421T203259
CREATED:20250509T172932Z
LAST-MODIFIED:20250509T172932Z
UID:3726-1747148400-1747155600@www.map-kolin.cz
SUMMARY:Setkání PS mateřské školy
DESCRIPTION:
URL:https://www.map-kolin.cz/akce/setkani-ps-materske-skoly-5/
LOCATION:CEROP Kolín\, Sokolská 1095\, Kolín\, Středočeský\, 28002\, Česká republika
CATEGORIES:Pracovní skupiny
ORGANIZER;CN="Mgr. Michala Hlu%C5%A1i%C4%8Dkov%C3%A1":MAILTO:skolstvi@podlipansko.cz
END:VEVENT
BEGIN:VEVENT
DTSTART;TZID=Europe/Prague:20250428T150000
DTEND;TZID=Europe/Prague:20250428T180000
DTSTAMP:20260421T203259
CREATED:20250321T151753Z
LAST-MODIFIED:20250327T143036Z
UID:3402-1745852400-1745863200@www.map-kolin.cz
SUMMARY:Rok venku – cyklus roku ve hře a učení venku
DESCRIPTION:
URL:https://www.map-kolin.cz/akce/rok-venku-cyklus-roku-ve-hre-a-uceni-venku/
LOCATION:CEROP Kolín\, Sokolská 1095\, Kolín\, Středočeský\, 28002\, Česká republika
CATEGORIES:Workshopy
ORGANIZER;CN="Mgr. Michaela Z%C3%A1horov%C3%A1":MAILTO:michala.zahorova@gmail.com
END:VEVENT
BEGIN:VEVENT
DTSTART;TZID=Europe/Prague:20250424T133000
DTEND;TZID=Europe/Prague:20250424T173000
DTSTAMP:20260421T203259
CREATED:20250206T133054Z
LAST-MODIFIED:20250207T150006Z
UID:3340-1745501400-1745515800@www.map-kolin.cz
SUMMARY:Abaku
DESCRIPTION:
URL:https://www.map-kolin.cz/akce/abaku/
LOCATION:Základní škola Kolín II.\, Kmochova 943\, Kmochova 943\, Kolín
CATEGORIES:Semináře
ORGANIZER;CN="Mgr. Iva Hervertov%C3%A1":MAILTO:map.kolin@podlipansko.cz
END:VEVENT
BEGIN:VEVENT
DTSTART;TZID=Europe/Prague:20250423T150000
DTEND;TZID=Europe/Prague:20250423T173000
DTSTAMP:20260421T203259
CREATED:20250321T144727Z
LAST-MODIFIED:20250327T142950Z
UID:3400-1745420400-1745429400@www.map-kolin.cz
SUMMARY:Improvizace – učíme se lehce a hravě
DESCRIPTION:
URL:https://www.map-kolin.cz/akce/improvizace-ucime-se-lehce-a-hrave/
LOCATION:KOlínský DEskoherní Klub – KODEK\, Havelcova 123\, Kolín III\, 28002
CATEGORIES:Workshopy
ORGANIZER;CN="Mgr. Michaela Z%C3%A1horov%C3%A1":MAILTO:michala.zahorova@gmail.com
END:VEVENT
BEGIN:VEVENT
DTSTART;TZID=Europe/Prague:20250410T150000
DTEND;TZID=Europe/Prague:20250410T170000
DTSTAMP:20260421T203259
CREATED:20250129T130814Z
LAST-MODIFIED:20250129T131145Z
UID:3333-1744297200-1744304400@www.map-kolin.cz
SUMMARY:Formativní hodnocení
DESCRIPTION:
URL:https://www.map-kolin.cz/akce/formativni-hodnoceni-2/
LOCATION:CEROP Kolín\, Sokolská 1095\, Kolín\, Středočeský\, 28002\, Česká republika
CATEGORIES:Workshopy
ORGANIZER;CN="Mgr. Michaela Z%C3%A1horov%C3%A1":MAILTO:michala.zahorova@gmail.com
END:VEVENT
BEGIN:VEVENT
DTSTART;TZID=Europe/Prague:20250407T150000
DTEND;TZID=Europe/Prague:20250407T170000
DTSTAMP:20260421T203259
CREATED:20250120T111157Z
LAST-MODIFIED:20250120T111552Z
UID:3285-1744038000-1744045200@www.map-kolin.cz
SUMMARY:Tvorba pracovního listu v Canvě
DESCRIPTION:
URL:https://www.map-kolin.cz/akce/tvorba-pracovniho-listu-v-canve-2/
LOCATION:CEROP Kolín\, Sokolská 1095\, Kolín\, Středočeský\, 28002\, Česká republika
CATEGORIES:Workshopy
ORGANIZER;CN="Mgr. Iva Hervertov%C3%A1":MAILTO:map.kolin@podlipansko.cz
END:VEVENT
BEGIN:VEVENT
DTSTART;TZID=Europe/Prague:20250403T150000
DTEND;TZID=Europe/Prague:20250403T180000
DTSTAMP:20260421T203259
CREATED:20241128T095332Z
LAST-MODIFIED:20250303T154715Z
UID:3113-1743692400-1743703200@www.map-kolin.cz
SUMMARY:Micro:bit ve výuce
DESCRIPTION:
URL:https://www.map-kolin.cz/akce/microbit-ve-vyuce/
LOCATION:CEROP Kolín\, Sokolská 1095\, Kolín\, Středočeský\, 28002\, Česká republika
CATEGORIES:Workshopy
ORGANIZER;CN="Mgr. Iva Hervertov%C3%A1":MAILTO:map.kolin@podlipansko.cz
END:VEVENT
BEGIN:VEVENT
DTSTART;TZID=Europe/Prague:20250327T150000
DTEND;TZID=Europe/Prague:20250327T170000
DTSTAMP:20260421T203259
CREATED:20240916T110022Z
LAST-MODIFIED:20240916T110557Z
UID:2873-1743087600-1743094800@www.map-kolin.cz
SUMMARY:Asistent pedagoga jak mu pomoci v jeho nelehké práci
DESCRIPTION:
URL:https://www.map-kolin.cz/akce/asistent-pedagoga-4/
LOCATION:KOlínský DEskoherní Klub – KODEK\, Havelcova 123\, Kolín III\, 28002
CATEGORIES:Workshopy
ORGANIZER;CN="Mgr. Iva Hervertov%C3%A1":MAILTO:map.kolin@podlipansko.cz
END:VEVENT
BEGIN:VEVENT
DTSTART;TZID=Europe/Prague:20250326T140000
DTEND;TZID=Europe/Prague:20250326T180000
DTSTAMP:20260421T203259
CREATED:20250218T132326Z
LAST-MODIFIED:20250310T210508Z
UID:3368-1742997600-1743012000@www.map-kolin.cz
SUMMARY:eTwinning do škol – metodický seminář
DESCRIPTION:Všichni účastníci by měli být zaregistrování v prostředí ESEP.  Odkaz s návodem zde. \n\nNa přednášku je nutné DVOJÍ přihlášení!\nRegistrace účastníků pro DZS je ZDE\, níže pak registrace MAP.
URL:https://www.map-kolin.cz/akce/etwinning-do-skol-metodicky-seminar/
LOCATION:CEROP Kolín\, Sokolská 1095\, Kolín\, Středočeský\, 28002\, Česká republika
CATEGORIES:Přednášky
ORGANIZER;CN="Mgr. Michaela Z%C3%A1horov%C3%A1":MAILTO:michala.zahorova@gmail.com
END:VEVENT
BEGIN:VEVENT
DTSTART;TZID=Europe/Prague:20250320T160000
DTEND;TZID=Europe/Prague:20250320T180000
DTSTAMP:20260421T203259
CREATED:20250117T133138Z
LAST-MODIFIED:20250211T121243Z
UID:3280-1742486400-1742493600@www.map-kolin.cz
SUMMARY:Systematický úvod do problematiky nadání
DESCRIPTION:
URL:https://www.map-kolin.cz/akce/systematicky-uvod-do-problematiky-nadani/
LOCATION:CEROP Kolín\, Sokolská 1095\, Kolín\, Středočeský\, 28002\, Česká republika
CATEGORIES:Semináře
ORGANIZER;CN="Mgr. Michaela Z%C3%A1horov%C3%A1":MAILTO:michala.zahorova@gmail.com
END:VEVENT
BEGIN:VEVENT
DTSTART;TZID=Europe/Prague:20250319T160000
DTEND;TZID=Europe/Prague:20250319T180000
DTSTAMP:20260421T203259
CREATED:20250213T133322Z
LAST-MODIFIED:20250217T153055Z
UID:3364-1742400000-1742407200@www.map-kolin.cz
SUMMARY:Nastartujte svou paměť
DESCRIPTION:
URL:https://www.map-kolin.cz/akce/nastartujte-svou-pamet/
LOCATION:CEROP Kolín\, Sokolská 1095\, Kolín\, Středočeský\, 28002\, Česká republika
CATEGORIES:Přednášky
ORGANIZER;CN="Mgr. Michala Hlu%C5%A1i%C4%8Dkov%C3%A1":MAILTO:skolstvi@podlipansko.cz
END:VEVENT
BEGIN:VEVENT
DTSTART;TZID=Europe/Prague:20250317T150000
DTEND;TZID=Europe/Prague:20250317T173000
DTSTAMP:20260421T203259
CREATED:20241128T095202Z
LAST-MODIFIED:20250226T164903Z
UID:3111-1742223600-1742232600@www.map-kolin.cz
SUMMARY:Digitální závislosti - DiGiStories: Alex (JSNS.cz)
DESCRIPTION:
URL:https://www.map-kolin.cz/akce/kybersikana-digistories-alex-jsns-cz/
LOCATION:CEROP Kolín\, Sokolská 1095\, Kolín\, Středočeský\, 28002\, Česká republika
CATEGORIES:Semináře
ORGANIZER;CN="Mgr. Iva Hervertov%C3%A1":MAILTO:map.kolin@podlipansko.cz
END:VEVENT
BEGIN:VEVENT
DTSTART;TZID=Europe/Prague:20250313T150000
DTEND;TZID=Europe/Prague:20250313T170000
DTSTAMP:20260421T203259
CREATED:20250207T161154Z
LAST-MODIFIED:20250209T085738Z
UID:3352-1741878000-1741885200@www.map-kolin.cz
SUMMARY:Jak si poradit se sebepoškozováním dětí
DESCRIPTION:
URL:https://www.map-kolin.cz/akce/sebeposkozovani-deti/
LOCATION:CEROP Kolín\, Sokolská 1095\, Kolín\, Středočeský\, 28002\, Česká republika
ORGANIZER;CN="Mgr. Michaela Z%C3%A1horov%C3%A1":MAILTO:michala.zahorova@gmail.com
END:VEVENT
BEGIN:VEVENT
DTSTART;TZID=Europe/Prague:20250312T160000
DTEND;TZID=Europe/Prague:20250312T180000
DTSTAMP:20260421T203259
CREATED:20241128T094832Z
LAST-MODIFIED:20250312T154758Z
UID:3109-1741795200-1741802400@www.map-kolin.cz
SUMMARY:Hrátky s umělou inteligencí
DESCRIPTION:
URL:https://www.map-kolin.cz/akce/hratky-s-umelou-inteligenci/
LOCATION:CEROP Kolín\, Sokolská 1095\, Kolín\, Středočeský\, 28002\, Česká republika
CATEGORIES:Workshopy
ORGANIZER;CN="Mgr. Iva Hervertov%C3%A1":MAILTO:map.kolin@podlipansko.cz
END:VEVENT
BEGIN:VEVENT
DTSTART;TZID=Europe/Prague:20250227T160000
DTEND;TZID=Europe/Prague:20250227T180000
DTSTAMP:20260421T203259
CREATED:20250110T144859Z
LAST-MODIFIED:20250207T155441Z
UID:3156-1740672000-1740679200@www.map-kolin.cz
SUMMARY:Setkání PS rovné příležitosti
DESCRIPTION:
URL:https://www.map-kolin.cz/akce/setkani-ps-rp/
LOCATION:Pension Pod věží – salonek\, Parléřova 40\, Kolín\, Česká republika
CATEGORIES:Pracovní skupiny
ORGANIZER;CN="Mgr. Michaela Z%C3%A1horov%C3%A1":MAILTO:michala.zahorova@gmail.com
END:VEVENT
BEGIN:VEVENT
DTSTART;TZID=Europe/Prague:20250226T150000
DTEND;TZID=Europe/Prague:20250226T170000
DTSTAMP:20260421T203259
CREATED:20250110T144725Z
LAST-MODIFIED:20250207T155523Z
UID:3154-1740582000-1740589200@www.map-kolin.cz
SUMMARY:Setkání PS MODIFO
DESCRIPTION:
URL:https://www.map-kolin.cz/akce/setkani-ps-modifo-4/
LOCATION:KOlínský DEskoherní Klub – KODEK\, Havelcova 123\, Kolín III\, 28002
CATEGORIES:Pracovní skupiny
ORGANIZER;CN="Mgr. Iva Hervertov%C3%A1":MAILTO:map.kolin@podlipansko.cz
END:VEVENT
BEGIN:VEVENT
DTSTART;TZID=Europe/Prague:20250225T150000
DTEND;TZID=Europe/Prague:20250225T170000
DTSTAMP:20260421T203259
CREATED:20241217T101553Z
LAST-MODIFIED:20241217T101553Z
UID:3133-1740495600-1740502800@www.map-kolin.cz
SUMMARY:Setkání PS mateřské školy
DESCRIPTION:
URL:https://www.map-kolin.cz/akce/setkani-ps-materske-skoly-4/
CATEGORIES:Pracovní skupiny
ORGANIZER;CN="Mgr. Michala Hlu%C5%A1i%C4%8Dkov%C3%A1":MAILTO:skolstvi@podlipansko.cz
END:VEVENT
BEGIN:VEVENT
DTSTART;TZID=Europe/Prague:20250219T160000
DTEND;TZID=Europe/Prague:20250219T180000
DTSTAMP:20260421T203259
CREATED:20250126T180314Z
LAST-MODIFIED:20250128T201643Z
UID:3315-1739980800-1739988000@www.map-kolin.cz
SUMMARY:Cryptomania\, šifry pro chytré děti a hravé pedagogy
DESCRIPTION:
URL:https://www.map-kolin.cz/akce/cryptomania-kreativni-workshop/
LOCATION:CEROP Kolín\, Sokolská 1095\, Kolín\, Středočeský\, 28002\, Česká republika
CATEGORIES:Workshopy
ORGANIZER;CN="Mgr. Michaela Z%C3%A1horov%C3%A1":MAILTO:michala.zahorova@gmail.com
END:VEVENT
BEGIN:VEVENT
DTSTART;TZID=Europe/Prague:20250217T153000
DTEND;TZID=Europe/Prague:20250217T173000
DTSTAMP:20260421T203259
CREATED:20250127T154006Z
LAST-MODIFIED:20250127T154802Z
UID:3319-1739806200-1739813400@www.map-kolin.cz
SUMMARY:Tvorba pracovního listu v Canvě
DESCRIPTION:
URL:https://www.map-kolin.cz/akce/tvorba-pracovniho-listu-v-canve-3/
LOCATION:Základní škola Plaňany\, Pražská 28\, Plaňany
CATEGORIES:Workshopy
ORGANIZER;CN="Mgr. Iva Hervertov%C3%A1":MAILTO:map.kolin@podlipansko.cz
END:VEVENT
BEGIN:VEVENT
DTSTART;TZID=Europe/Prague:20250210T150000
DTEND;TZID=Europe/Prague:20250210T170000
DTSTAMP:20260421T203259
CREATED:20241128T094455Z
LAST-MODIFIED:20250207T143722Z
UID:3106-1739199600-1739206800@www.map-kolin.cz
SUMMARY:Animace ve výuce
DESCRIPTION:
URL:https://www.map-kolin.cz/akce/animace-ve-vyuce/
LOCATION:Základní škola Kolín V.\, Mnichovická 62\, Mnichovická 62\, Kolín 5\, 28002
CATEGORIES:Workshopy
ORGANIZER;CN="Mgr. Iva Hervertov%C3%A1":MAILTO:map.kolin@podlipansko.cz
END:VEVENT
BEGIN:VEVENT
DTSTART;TZID=Europe/Prague:20250206T160000
DTEND;TZID=Europe/Prague:20250206T180000
DTSTAMP:20260421T203259
CREATED:20241128T093533Z
LAST-MODIFIED:20250202T184203Z
UID:3102-1738857600-1738864800@www.map-kolin.cz
SUMMARY:Škola solidární aneb jak podporovat wellbeing ve škole
DESCRIPTION:
URL:https://www.map-kolin.cz/akce/skola-solidarni/
LOCATION:CEROP Kolín\, Sokolská 1095\, Kolín\, Středočeský\, 28002\, Česká republika
CATEGORIES:Workshopy
ORGANIZER;CN="Mgr. Michaela Z%C3%A1horov%C3%A1":MAILTO:michala.zahorova@gmail.com
END:VEVENT
BEGIN:VEVENT
DTSTART;TZID=Europe/Prague:20250205T150000
DTEND;TZID=Europe/Prague:20250205T170000
DTSTAMP:20260421T203259
CREATED:20250113T131147Z
LAST-MODIFIED:20250113T141956Z
UID:3159-1738767600-1738774800@www.map-kolin.cz
SUMMARY:eTwinning do škol
DESCRIPTION:
URL:https://www.map-kolin.cz/akce/etwinning-do-skol/
LOCATION:CEROP Kolín\, Sokolská 1095\, Kolín\, Středočeský\, 28002\, Česká republika
CATEGORIES:Přednášky
ORGANIZER;CN="Mgr. Michaela Z%C3%A1horov%C3%A1":MAILTO:michala.zahorova@gmail.com
END:VEVENT
BEGIN:VEVENT
DTSTART;TZID=Europe/Prague:20250127T150000
DTEND;TZID=Europe/Prague:20250127T170000
DTSTAMP:20260421T203259
CREATED:20241128T094028Z
LAST-MODIFIED:20250110T135021Z
UID:3104-1737990000-1737997200@www.map-kolin.cz
SUMMARY:Metody aktivního učení - skupinové práce a centra aktivit
DESCRIPTION:
URL:https://www.map-kolin.cz/akce/metody-aktivniho-uceni-2/
LOCATION:CEROP Kolín\, Sokolská 1095\, Kolín\, Středočeský\, 28002\, Česká republika
CATEGORIES:Workshopy
ORGANIZER;CN="Mgr. Iva Hervertov%C3%A1":MAILTO:map.kolin@podlipansko.cz
END:VEVENT
BEGIN:VEVENT
DTSTART;TZID=Europe/Prague:20250123T150000
DTEND;TZID=Europe/Prague:20250123T170000
DTSTAMP:20260421T203259
CREATED:20250109T204608Z
LAST-MODIFIED:20250109T211722Z
UID:3138-1737644400-1737651600@www.map-kolin.cz
SUMMARY:PeaceJam – workshop materiálů pro I. a II. stupeň ZŠ
DESCRIPTION:
URL:https://www.map-kolin.cz/akce/peacejam-workshop/
LOCATION:CEROP Kolín\, Sokolská 1095\, Kolín\, Středočeský\, 28002\, Česká republika
CATEGORIES:Workshopy
ORGANIZER;CN="Mgr. Michaela Z%C3%A1horov%C3%A1":MAILTO:michala.zahorova@gmail.com
END:VEVENT
BEGIN:VEVENT
DTSTART;TZID=Europe/Prague:20250116T150000
DTEND;TZID=Europe/Prague:20250116T170000
DTSTAMP:20260421T203259
CREATED:20241213T141717Z
LAST-MODIFIED:20241216T140045Z
UID:3126-1737039600-1737046800@www.map-kolin.cz
SUMMARY:Formativní hodnocení
DESCRIPTION:
URL:https://www.map-kolin.cz/akce/formativni-hodnoceni/
LOCATION:CEROP Kolín\, Sokolská 1095\, Kolín\, Středočeský\, 28002\, Česká republika
CATEGORIES:Workshopy
ORGANIZER;CN="Mgr. Michaela Z%C3%A1horov%C3%A1":MAILTO:michala.zahorova@gmail.com
END:VEVENT
BEGIN:VEVENT
DTSTART;TZID=Europe/Prague:20250115T150000
DTEND;TZID=Europe/Prague:20250115T170000
DTSTAMP:20260421T203259
CREATED:20241014T144259Z
LAST-MODIFIED:20250113T125021Z
UID:2982-1736953200-1736960400@www.map-kolin.cz
SUMMARY:Tvorba pracovního listu v Canvě
DESCRIPTION:
URL:https://www.map-kolin.cz/akce/tvorba-pracovniho-listu-v-canve/
LOCATION:CEROP Kolín\, Sokolská 1095\, Kolín\, Středočeský\, 28002\, Česká republika
CATEGORIES:Workshopy
ORGANIZER;CN="Mgr. Iva Hervertov%C3%A1":MAILTO:map.kolin@podlipansko.cz
END:VEVENT
BEGIN:VEVENT
DTSTART;TZID=Europe/Prague:20241209T150000
DTEND;TZID=Europe/Prague:20241209T170000
DTSTAMP:20260421T203259
CREATED:20241014T144127Z
LAST-MODIFIED:20241025T115010Z
UID:2980-1733756400-1733763600@www.map-kolin.cz
SUMMARY:Vánoční hrátky s poezií
DESCRIPTION:
URL:https://www.map-kolin.cz/akce/vanocni-hratky-s-poezii/
LOCATION:Knihovna Kolín\, Husova 69\, Kolín\, 28002\, Česká republika
CATEGORIES:Workshopy
ORGANIZER;CN="Mgr. Michaela Z%C3%A1horov%C3%A1":MAILTO:michala.zahorova@gmail.com
END:VEVENT
BEGIN:VEVENT
DTSTART;TZID=Europe/Prague:20241206T090000
DTEND;TZID=Europe/Prague:20241206T120000
DTSTAMP:20260421T203259
CREATED:20240419T105116Z
LAST-MODIFIED:20241125T193648Z
UID:2417-1733475600-1733486400@www.map-kolin.cz
SUMMARY:Spolupráce škol a neziskovek
DESCRIPTION:
URL:https://www.map-kolin.cz/akce/prezentace-nno-pro-skoly/
LOCATION:CEROP Kolín\, Sokolská 1095\, Kolín\, Středočeský\, 28002\, Česká republika
CATEGORIES:Přednášky
ORGANIZER;CN="Mgr. Michaela Z%C3%A1horov%C3%A1":MAILTO:michala.zahorova@gmail.com
END:VEVENT
BEGIN:VEVENT
DTSTART;TZID=Europe/Prague:20241204T150000
DTEND;TZID=Europe/Prague:20241204T170000
DTSTAMP:20260421T203259
CREATED:20240419T110408Z
LAST-MODIFIED:20241122T141629Z
UID:2425-1733324400-1733331600@www.map-kolin.cz
SUMMARY:Setkání PS MODIFO
DESCRIPTION:
URL:https://www.map-kolin.cz/akce/setkani-ps-modifo-3/
LOCATION:KOlínský DEskoherní Klub – KODEK\, Havelcova 123\, Kolín III\, 28002
CATEGORIES:Pracovní skupiny
ORGANIZER;CN="Mgr. Michaela Z%C3%A1horov%C3%A1":MAILTO:michala.zahorova@gmail.com
END:VEVENT
END:VCALENDAR