BEGIN:VCALENDAR
VERSION:2.0
PRODID:-//MAP vzdělávání na Kolínsku - ECPv6.14.2//NONSGML v1.0//EN
CALSCALE:GREGORIAN
METHOD:PUBLISH
X-WR-CALNAME:MAP vzdělávání na Kolínsku
X-ORIGINAL-URL:https://www.map-kolin.cz
X-WR-CALDESC:Akce na MAP vzdělávání na Kolínsku
REFRESH-INTERVAL;VALUE=DURATION:PT1H
X-Robots-Tag:noindex
X-PUBLISHED-TTL:PT1H
BEGIN:VTIMEZONE
TZID:Europe/Prague
BEGIN:DAYLIGHT
TZOFFSETFROM:+0100
TZOFFSETTO:+0200
TZNAME:CEST
DTSTART:20240331T010000
END:DAYLIGHT
BEGIN:STANDARD
TZOFFSETFROM:+0200
TZOFFSETTO:+0100
TZNAME:CET
DTSTART:20241027T010000
END:STANDARD
END:VTIMEZONE
BEGIN:VEVENT
DTSTART;TZID=Europe/Prague:20240820T083000
DTEND;TZID=Europe/Prague:20240820T163000
DTSTAMP:20260426T054933
CREATED:20240427T172220Z
LAST-MODIFIED:20240819T100351Z
UID:2459-1724142600-1724171400@www.map-kolin.cz
SUMMARY:Divadelní techniky ve výuce MŠ
DESCRIPTION:Chcete používat v mateřské škole divadlo a nevíte\, jak začít? Rádi byste děti vedli k lásce ke knihám\, ale mají období\, kdy je předčítání nebaví? \nS knížkou se mohou seznámit také přes divadlo! Navíc přitom mohou více poznat samy sebe a své školkové parťáky. \nNabídneme vám konkrétní projekt Chlebová Lhota podle stejnojmenné knihy autorky Dagmar Urbanové a zmíníme se o dalších. Kousky společně zažijeme a ukážeme si na nich způsoby práce a divadelní techniky vhodné pro děti v mateřské škole. Mohou mít tyto techniky vliv na fungování kolektivu? Pojďte na vlastní kůži zažít\, jak divadlo utváří skupinu a propojení mezi jejími členy! \nLektorka\nMgA. Anna Eva Machová \nBěhem studia JAMU se věnovala začlenění předmětu Dramatická výchova do základních škol a učila. Život jí nakonec nabídl různorodější profesní zkušenosti. Od manažerské práce pro prodejní outdoorové projekty\, k 10 letům praxe ve společnosti Akord OT a s nimi školení pracovních kolektivů. V práci s dětmi pokračovala jako instruktorka na lyžích na božídarském Novaku a pro školy v přírodě a letní tábory společnosti Robinson. Hodně jí ovlivnilo\, když v Klatovech pracovala pro vícejazyčnou montessori školku. Poslední dobou připravuje hlavně projekty na míru pro malé dětské skupiny\, třídní kolektivy\, stezky a hry na oslavy. Nejvíce času však tráví s dvouletým synem Maxmiliánem\, který jí ukazuje nadšení z každého dne a radost při objevování světa kolem nás.
URL:https://www.map-kolin.cz/akce/divadelni-techniky-ve-vyuce-ms/
LOCATION:CEROP Kolín\, Sokolská 1095\, Kolín\, Středočeský\, 28002\, Česká republika
CATEGORIES:HRAVÁ LETNÍ ŠKOLA
ORGANIZER;CN="Mgr. Michaela Z%C3%A1horov%C3%A1":MAILTO:michala.zahorova@gmail.com
END:VEVENT
BEGIN:VEVENT
DTSTART;TZID=Europe/Prague:20240820T083000
DTEND;TZID=Europe/Prague:20240820T163000
DTSTAMP:20260426T054933
CREATED:20240427T173053Z
LAST-MODIFIED:20240819T100449Z
UID:2464-1724142600-1724171400@www.map-kolin.cz
SUMMARY:Jak nevyhořet v roli pedagoga aneb  jak o sebe efektivně pečovat
DESCRIPTION:Prakticky zaměřený seminář na stále aktuální téma psychohygiena a její důležitost v péči o sebe sama. Dotkneme se témat syndromu vyhoření\, sebesoucitu\, sebelaskavosti\, sebereflexe. Vytvoříme si například vlastní Ikigai (důvod\, proč ráno vstát z postele)\, kolo života či seznam miluji-nesnáším aj. \nLektorky\nMgr. Martina Kastnerová – psycholožka\, psychoterapeutka\, koučka\, vedoucí\nCPSP\, 21 let v psychologické praxi\, matka tří dětí\, milovnice koček\, hudby\,\ncestování\, fotografie a dobrého jídla. \nMgr. Petra Vášová – zakladatelka neziskové organizace Kaňkovské sedlo\,\nspeciální pedagožka\, koučka\, mediátorka\, 26 let v poradenské praxi\, matka\ndvou kluků\, milovnice cestování\, cyklistiky a přírody.
URL:https://www.map-kolin.cz/akce/jak-nevyhoret-v-roli-pedagoga-2/
LOCATION:CEROP Kolín\, Sokolská 1095\, Kolín\, Středočeský\, 28002\, Česká republika
CATEGORIES:HRAVÁ LETNÍ ŠKOLA
ORGANIZER;CN="Mgr. David Z%C3%A1hora":MAILTO:skolstvi@maszalabi.eu
END:VEVENT
BEGIN:VEVENT
DTSTART;TZID=Europe/Prague:20240820T090000
DTEND;TZID=Europe/Prague:20240820T163000
DTSTAMP:20260426T054933
CREATED:20240427T172620Z
LAST-MODIFIED:20240812T174301Z
UID:2462-1724144400-1724171400@www.map-kolin.cz
SUMMARY:Kreativní nástroje umělé inteligence
DESCRIPTION:Seminář\, na kterém si budeme „hrát“ s nástroji umělé inteligence. Zaměříme se na hudební nástroje\, kde si zkusíme vygenerovat různé melodie a písně. Dále vyzkoušíme grafické nástroje pro generování obrázků či komiksů. Také si zkusíme vygenerovat zajímavé příběhy a mnoho dalšího. \nStručný obsah semináře: \n\n\nTeoretický úvod: \n\n\nCo je to AI\, historie a možnosti AI\nEtika a nebezpečí\nUkázka nástrojů AI\n\n\n\n\n\nPraktická část: \n\n\n\nHudební kreativní aplikace\nGrafické kreativní aplikace\nTvorba kreativního projektu\n\n\n\nMůže být výhodou si přinést vlastní notebook nebo tablet k práci. \nLektor:\nRNDr. Petr Coufal\, Ph.D. se věnuje výuce informatiky a fyziky na střední škole v Litomyšli. Současně vede kurzy na Univerzitě v Hradci Králové\, kde se specializuje na didaktiku informatiky a robotiku. Jeho nadšení pro moderní technologie\, robotiku a umělou inteligenci se projevuje nejen ve výuce\, ale také v jeho roli vedoucího Digicentra Elixíru do škol\, kde sdílí své zkušenosti s učiteli i studenty.
URL:https://www.map-kolin.cz/akce/kreativni-nastroje-umele-inteligence-2/
LOCATION:CEROP Kolín\, Sokolská 1095\, Kolín\, Středočeský\, 28002\, Česká republika
CATEGORIES:HRAVÁ LETNÍ ŠKOLA
ORGANIZER;CN="Mgr. Iva Hervertov%C3%A1":MAILTO:map.kolin@podlipansko.cz
END:VEVENT
END:VCALENDAR