BEGIN:VCALENDAR
VERSION:2.0
PRODID:-//MAP vzdělávání na Kolínsku - ECPv6.14.2//NONSGML v1.0//EN
CALSCALE:GREGORIAN
METHOD:PUBLISH
X-WR-CALNAME:MAP vzdělávání na Kolínsku
X-ORIGINAL-URL:https://www.map-kolin.cz
X-WR-CALDESC:Akce na MAP vzdělávání na Kolínsku
REFRESH-INTERVAL;VALUE=DURATION:PT1H
X-Robots-Tag:noindex
X-PUBLISHED-TTL:PT1H
BEGIN:VTIMEZONE
TZID:Europe/Prague
BEGIN:DAYLIGHT
TZOFFSETFROM:+0100
TZOFFSETTO:+0200
TZNAME:CEST
DTSTART:20240331T010000
END:DAYLIGHT
BEGIN:STANDARD
TZOFFSETFROM:+0200
TZOFFSETTO:+0100
TZNAME:CET
DTSTART:20241027T010000
END:STANDARD
END:VTIMEZONE
BEGIN:VEVENT
DTSTART;TZID=Europe/Prague:20240821T083000
DTEND;TZID=Europe/Prague:20240821T163000
DTSTAMP:20260426T053310
CREATED:20240427T174357Z
LAST-MODIFIED:20240819T101232Z
UID:2466-1724229000-1724257800@www.map-kolin.cz
SUMMARY:Klíčové oblasti pro rozvoj řeči a jazyka
DESCRIPTION:V průběhu semináře se zaměříme na základní terminologii v oblasti logopedie i na krátké shrnutí nejčastějších poruch řeči a jazyka v dětském věku. Dále se seminář bude věnovat klíčovým oblastem pro rozvoj řeči a jazyka\, na které je nutné klást důraz a na možnosti jejich rozvoje i s využitím digitálních pomůcek a aplikací. Seminář vás také provede úvodem do problematiky zásadních symptomů\, které mohou značit riziko neurovývojových poruch. V závěru bude vyhrazen čas i na diskusi a sdílení zkušeností. \nLektorka\nMgr. Veronika Kučerová je logopedkou ve zdravotnictví zařazenou v předatestační přípravě. Pracuje v ambulanci klinické logopedie v Kutné Hoře (Psychiatrie s.r.o.)\, ve Fakultní nemocnici Motol na Rehabilitační klinice a zároveň působí jako speciální pedagožka a učitelka informatiky v ZŠ a MŠ Bečváry\, kde ji najdete již pátým rokem. Ráda předává informace ze světa logopedie i náhledu na novou koncepci informatiky ostatním\, protože věří\, že jen vzájemnou spoluprací se můžeme posouvat dále a sehrát svou důležitou roli v rámci komplexní péče o dané jedince.
URL:https://www.map-kolin.cz/akce/klicove-oblasti-pro-rozvoj-reci-a-jazyka/
LOCATION:CEROP Kolín\, Sokolská 1095\, Kolín\, Středočeský\, 28002\, Česká republika
CATEGORIES:HRAVÁ LETNÍ ŠKOLA
ORGANIZER;CN="Mgr. Michala Hlu%C5%A1i%C4%8Dkov%C3%A1":MAILTO:skolstvi@podlipansko.cz
END:VEVENT
BEGIN:VEVENT
DTSTART;TZID=Europe/Prague:20240821T083000
DTEND;TZID=Europe/Prague:20240821T163000
DTSTAMP:20260426T053310
CREATED:20240427T174933Z
LAST-MODIFIED:20240819T101303Z
UID:2468-1724229000-1724257800@www.map-kolin.cz
SUMMARY:Začlenění herních prvků do procesu vzdělávání
DESCRIPTION:V semináři se dozvíte\, jaké se používají herní mechaniky a jak je použít ve výuce. Dozvíte se\, co je to gamifikace. Podíváme se na základy šifrování a jejich použití. Zahrajeme si a naučíme se vysvětlovat hry a jejich pravidla. Zjistíte\, jak se deskové a karetní hry vyrábějí. Budete si moci prohlédnout přes 350 deskových a karetních her. \nLektor\nMichal Švec je dlouholetý\, zaujatý\, hráč deskových her a spolumajitel nově otevřeného hráčského klubu KODEK v Kolíně. https://www.hernidoplnky.cz/
URL:https://www.map-kolin.cz/akce/zacleneni-hernich-prvku-do-procesu-vzdelavani/
LOCATION:KOlínský DEskoherní Klub – KODEK\, Havelcova 123\, Kolín III\, 28002
CATEGORIES:HRAVÁ LETNÍ ŠKOLA
ORGANIZER;CN="Mgr. Michaela Z%C3%A1horov%C3%A1":MAILTO:michala.zahorova@gmail.com
END:VEVENT
BEGIN:VEVENT
DTSTART;TZID=Europe/Prague:20240821T083000
DTEND;TZID=Europe/Prague:20240821T163000
DTSTAMP:20260426T053310
CREATED:20240427T184302Z
LAST-MODIFIED:20240819T101349Z
UID:2470-1724229000-1724257800@www.map-kolin.cz
SUMMARY:Jak na třídnické hodiny a prevenci s dokumentárními filmy (JSNS.cz)
DESCRIPTION:Během semináře si osvojíte základy\, jak pomocí dokumentárních filmů\, reflexe emocí a následných aktivit metodiky jednoho světa na školách působit na klima třídy a podporovat vzájemnou důvěru\, naslouchání si a zapojení všech žáků do aktivit. Vystoupíte z klasické pedagogické role a metodiku JSNS si osvojíte skrze sebezkušenost. Skrze vlastní zážitek se přiblížíte tomu\, jak program mohou prožívat vaši žáci. \nSeminář je určen pro vyučující a pracovníky školních poradenských pracovišť i bez předchozích zkušeností s využitím filmů ve výuce. Seznámíte se primárně s materiály vhodnými do třídnických hodin\, zažijete si aktivity ke dvěma filmům a zahrajete si interaktivní hru DigiStories: Alex. \nLektorka\nMgr. Lucie Tetivová vyučuje jazyky\, výtvarnou a občanskou výchovu a je třídní učitelkou na druhém stupni ZŠ. Zároveň je metodičkou prevence a využití dokumentárních filmů se stalo přirozenou součástí její práce. Metodiku JSNS využívá od roku 2016 a v současné chvíli je jednou z našich nejzkušenějších lektorek\, která předává své know-how v tématech do třídnických hodin\, prevence a mediálního vzdělávání.
URL:https://www.map-kolin.cz/akce/jak-na-tridnicke-hodiny-a-prevenci-s-dokumentarnimi-filmy-jsns-cz/
LOCATION:CEROP Kolín\, Sokolská 1095\, Kolín\, Středočeský\, 28002\, Česká republika
CATEGORIES:HRAVÁ LETNÍ ŠKOLA
ORGANIZER;CN="Mgr. Iva Hervertov%C3%A1":MAILTO:map.kolin@podlipansko.cz
END:VEVENT
END:VCALENDAR